![]() | Name | Last modified | Size | Description |
---|---|---|---|---|
![]() | Parent Directory | - | ||
![]() | buildbin-out.txt | 01-Jul-2022 00:06 | 1.2K | |
![]() | buildbin-summary.dcf | 01-Jul-2022 00:06 | 563 | |
![]() | buildsrc-out.txt | 01-Jul-2022 00:06 | 924 | |
![]() | buildsrc-summary.dcf | 01-Jul-2022 00:06 | 472 | |
![]() | checksrc-out.txt | 01-Jul-2022 00:06 | 3.2K | |
![]() | checksrc-summary.dcf | 01-Jul-2022 00:06 | 470 | |
![]() | install-out.txt | 01-Jul-2022 00:06 | 1.9K | |
![]() | install-summary.dcf | 01-Jul-2022 00:06 | 673 | |