Index of /checkResults/devel/bioc-LATEST/GreyListChIP/raw-results/nebbiolo2

[ICO]NameLast modifiedSizeDescription

[DIR]Parent Directory  -  
[TXT]install-out.txt20-Aug-2022 01:11 970  
[   ]install-summary.dcf20-Aug-2022 01:11 269  
[TXT]buildsrc-out.txt20-Aug-2022 01:11 889  
[   ]buildsrc-summary.dcf20-Aug-2022 01:11 432  
[TXT]checksrc-out.txt20-Aug-2022 01:11 3.2K 
[   ]checksrc-summary.dcf20-Aug-2022 01:11 444