Back to Multiple platform build/check report for BioC 3.13
ABCDEF[G]HIJKLMNOPQRSTUVWXYZ

BUILD BIN report for GraphPAC on tokay2

This page was generated on 2021-01-24 12:33:15 -0500 (Sun, 24 Jan 2021).

TO THE DEVELOPERS/MAINTAINERS OF THE GraphPAC PACKAGE: Please make sure to use the following settings in order to reproduce any error or warning you see on this page.
Package 769/1932HostnameOS / ArchINSTALLBUILDCHECKBUILD BIN
GraphPAC 1.33.0
Gregory Ryslik
Snapshot Date: 2021-01-23 14:40:18 -0500 (Sat, 23 Jan 2021)
URL: https://git.bioconductor.org/packages/GraphPAC
Branch: master
Last Commit: 21555b8
Last Changed Date: 2020-10-27 10:48:33 -0500 (Tue, 27 Oct 2020)
malbec2 Linux (Ubuntu 20.04.1 LTS) / x86_64  OK  OK  ERROR 
tokay2 Windows Server 2012 R2 Standard / x64  OK  OK  OK [ OK ]UNNEEDED, same version exists in internal repository
riesling1 Windows Server 2019 Standard / x64  OK  OK  OK  OK 
machv2 macOS 10.14.6 Mojave / x86_64  OK  OK  OK  OK UNNEEDED, same version exists in internal repository

Summary

Package: GraphPAC
Version: 1.33.0
Command: rm -rf GraphPAC.buildbin-libdir && mkdir GraphPAC.buildbin-libdir && C:\Users\biocbuild\bbs-3.13-bioc\R\bin\R.exe CMD INSTALL --merge-multiarch --build --library=GraphPAC.buildbin-libdir GraphPAC_1.33.0.tar.gz
StartedAt: 2021-01-24 11:20:29 -0500 (Sun, 24 Jan 2021)
EndedAt: 2021-01-24 11:20:56 -0500 (Sun, 24 Jan 2021)
EllapsedTime: 27.0 seconds
RetCode: 0
Status:  OK  
PackageFile: GraphPAC_1.33.0.zip
PackageFileSize: 422.6 KiB

Command output

##############################################################################
##############################################################################
###
### Running command:
###
###   rm -rf GraphPAC.buildbin-libdir && mkdir GraphPAC.buildbin-libdir && C:\Users\biocbuild\bbs-3.13-bioc\R\bin\R.exe CMD INSTALL --merge-multiarch --build --library=GraphPAC.buildbin-libdir GraphPAC_1.33.0.tar.gz
###
##############################################################################
##############################################################################



install for i386

* installing *source* package 'GraphPAC' ...
** using staged installation
** R
** inst
** byte-compile and prepare package for lazy loading
** help
*** installing help indices
  converting help for package 'GraphPAC'
    finding HTML links ... done
    Find.TSP.Path                           html  
REDIRECT:topic	 Find.TSP.Path -> Find.TSP.Path.html [ SUCCESS ]
    GraphClust                              html  
REDIRECT:topic	 GraphClust -> GraphClust.html [ SUCCESS ]
    Plot.Protein                            html  
REDIRECT:topic	 Plot.Protein -> Plot.Protein.html [ SUCCESS ]
    graphPAC-package                        html  
REDIRECT:topic	 GraphPAC-package -> graphPAC-package.html [ SUCCESS ]
REDIRECT:topic	 GraphPAC -> graphPAC-package.html [ SUCCESS ]
** building package indices
** installing vignettes
** testing if installed package can be loaded from temporary location
** testing if installed package can be loaded from final location
** testing if installed package keeps a record of temporary installation path

install for x64

* installing *source* package 'GraphPAC' ...
** testing if installed package can be loaded
* MD5 sums
packaged installation of 'GraphPAC' as GraphPAC_1.33.0.zip
* DONE (GraphPAC)