Back to Multiple platform build/check report for BioC 3.13 |
|
This page was generated on 2021-01-25 12:39:32 -0500 (Mon, 25 Jan 2021).
TO THE DEVELOPERS/MAINTAINERS OF THE GraphPAC PACKAGE: Please make sure to use the following settings in order to reproduce any error or warning you see on this page. |
Package 770/1938 | Hostname | OS / Arch | INSTALL | BUILD | CHECK | BUILD BIN | ||||||
GraphPAC 1.33.0 Gregory Ryslik
| malbec2 | Linux (Ubuntu 20.04.1 LTS) / x86_64 | OK | OK | OK | ![]() | ||||||
tokay2 | Windows Server 2012 R2 Standard / x64 | OK | OK | OK | OK | ![]() | ||||||
riesling1 | Windows Server 2019 Standard / x64 | OK | OK | OK | [ OK ] | |||||||
machv2 | macOS 10.14.6 Mojave / x86_64 | OK | OK | OK | OK | ![]() |
Package: GraphPAC |
Version: 1.33.0 |
Command: rm -rf GraphPAC.buildbin-libdir && mkdir GraphPAC.buildbin-libdir && D:\biocbuild\bbs-3.13-bioc\R\bin\R.exe CMD INSTALL --merge-multiarch --build --library=GraphPAC.buildbin-libdir GraphPAC_1.33.0.tar.gz |
StartedAt: 2021-01-24 23:19:52 -0500 (Sun, 24 Jan 2021) |
EndedAt: 2021-01-24 23:22:04 -0500 (Sun, 24 Jan 2021) |
EllapsedTime: 131.2 seconds |
RetCode: 0 |
Status: OK |
PackageFile: GraphPAC_1.33.0.zip |
PackageFileSize: 402.8 KiB |
############################################################################## ############################################################################## ### ### Running command: ### ### rm -rf GraphPAC.buildbin-libdir && mkdir GraphPAC.buildbin-libdir && D:\biocbuild\bbs-3.13-bioc\R\bin\R.exe CMD INSTALL --merge-multiarch --build --library=GraphPAC.buildbin-libdir GraphPAC_1.33.0.tar.gz ### ############################################################################## ############################################################################## install for i386 * installing *source* package 'GraphPAC' ... ** using staged installation ** R ** inst ** byte-compile and prepare package for lazy loading ** help *** installing help indices converting help for package 'GraphPAC' finding HTML links ... done Find.TSP.Path html REDIRECT:topic Find.TSP.Path -> Find.TSP.Path.html [ SUCCESS ] GraphClust html REDIRECT:topic GraphClust -> GraphClust.html [ SUCCESS ] Plot.Protein html REDIRECT:topic Plot.Protein -> Plot.Protein.html [ SUCCESS ] graphPAC-package html REDIRECT:topic GraphPAC-package -> graphPAC-package.html [ SUCCESS ] REDIRECT:topic GraphPAC -> graphPAC-package.html [ SUCCESS ] ** building package indices ** installing vignettes ** testing if installed package can be loaded from temporary location ** testing if installed package can be loaded from final location ** testing if installed package keeps a record of temporary installation path install for x64 * installing *source* package 'GraphPAC' ... ** testing if installed package can be loaded * MD5 sums packaged installation of 'GraphPAC' as GraphPAC_1.33.0.zip * DONE (GraphPAC)