Back to Multiple platform build/check report for BioC 3.13 |
|
This page was generated on 2021-01-25 12:42:54 -0500 (Mon, 25 Jan 2021).
TO THE DEVELOPERS/MAINTAINERS OF THE GraphPAC PACKAGE: Please make sure to use the following settings in order to reproduce any error or warning you see on this page. |
Package 770/1938 | Hostname | OS / Arch | INSTALL | BUILD | CHECK | BUILD BIN | ||||||
GraphPAC 1.33.0 Gregory Ryslik
| malbec2 | Linux (Ubuntu 20.04.1 LTS) / x86_64 | OK | OK | OK | ![]() | ||||||
tokay2 | Windows Server 2012 R2 Standard / x64 | OK | OK | OK | OK | ![]() | ||||||
riesling1 | Windows Server 2019 Standard / x64 | OK | OK | OK | OK | |||||||
machv2 | macOS 10.14.6 Mojave / x86_64 | OK | [ OK ] | OK | OK | ![]() |
Package: GraphPAC |
Version: 1.33.0 |
Command: /Library/Frameworks/R.framework/Versions/Current/Resources/bin/R CMD build --keep-empty-dirs --no-resave-data GraphPAC |
StartedAt: 2021-01-24 19:17:10 -0500 (Sun, 24 Jan 2021) |
EndedAt: 2021-01-24 19:19:26 -0500 (Sun, 24 Jan 2021) |
EllapsedTime: 135.9 seconds |
RetCode: 0 |
Status: OK |
PackageFile: GraphPAC_1.33.0.tar.gz |
PackageFileSize: 574.6 KiB |
############################################################################## ############################################################################## ### ### Running command: ### ### /Library/Frameworks/R.framework/Versions/Current/Resources/bin/R CMD build --keep-empty-dirs --no-resave-data GraphPAC ### ############################################################################## ############################################################################## * checking for file ‘GraphPAC/DESCRIPTION’ ... OK * preparing ‘GraphPAC’: * checking DESCRIPTION meta-information ... OK * installing the package to build vignettes * creating vignettes ... OK * checking for LF line-endings in source and make files and shell scripts * checking for empty or unneeded directories * building ‘GraphPAC_1.33.0.tar.gz’