Back to Multiple platform build/check report for BioC 3.13 |
|
This page was generated on 2021-01-25 12:42:54 -0500 (Mon, 25 Jan 2021).
TO THE DEVELOPERS/MAINTAINERS OF THE GraphPAC PACKAGE: Please make sure to use the following settings in order to reproduce any error or warning you see on this page. |
Package 770/1938 | Hostname | OS / Arch | INSTALL | BUILD | CHECK | BUILD BIN | ||||||
GraphPAC 1.33.0 Gregory Ryslik
| malbec2 | Linux (Ubuntu 20.04.1 LTS) / x86_64 | OK | OK | OK | ![]() | ||||||
tokay2 | Windows Server 2012 R2 Standard / x64 | OK | OK | OK | OK | ![]() | ||||||
riesling1 | Windows Server 2019 Standard / x64 | OK | OK | OK | OK | |||||||
machv2 | macOS 10.14.6 Mojave / x86_64 | OK | OK | OK | [ OK ] | ![]() |
Package: GraphPAC |
Version: 1.33.0 |
Command: rm -rf GraphPAC.buildbin-libdir && mkdir GraphPAC.buildbin-libdir && /Users/biocbuild/BBS/utils/build-universal.sh GraphPAC_1.33.0.tar.gz /Library/Frameworks/R.framework/Versions/Current/Resources/bin/R GraphPAC.buildbin-libdir |
StartedAt: 2021-01-25 06:21:43 -0500 (Mon, 25 Jan 2021) |
EndedAt: 2021-01-25 06:22:05 -0500 (Mon, 25 Jan 2021) |
EllapsedTime: 21.6 seconds |
RetCode: 0 |
Status: OK |
PackageFile: GraphPAC_1.33.0.tgz |
PackageFileSize: 388.6 KiB |
############################################################################## ############################################################################## ### ### Running command: ### ### rm -rf GraphPAC.buildbin-libdir && mkdir GraphPAC.buildbin-libdir && /Users/biocbuild/BBS/utils/build-universal.sh GraphPAC_1.33.0.tar.gz /Library/Frameworks/R.framework/Versions/Current/Resources/bin/R GraphPAC.buildbin-libdir ### ############################################################################## ############################################################################## >>>>>>> >>>>>>> INSTALLATION WITH 'R CMD INSTALL --preclean --no-multiarch --library=GraphPAC.buildbin-libdir GraphPAC_1.33.0.tar.gz' >>>>>>> * installing *source* package ‘GraphPAC’ ... ** using staged installation ** R ** inst ** byte-compile and prepare package for lazy loading ** help *** installing help indices ** building package indices ** installing vignettes ** testing if installed package can be loaded from temporary location ** testing if installed package can be loaded from final location ** testing if installed package keeps a record of temporary installation path * DONE (GraphPAC)