Index of /checkResults/devel/bioc-LATEST/GmicR/raw-results/palomino4

[ICO]NameLast modifiedSizeDescription

[DIR]Parent Directory  -  
[TXT]buildbin-out.txt07-Jul-2022 00:07 1.4K 
[   ]buildbin-summary.dcf07-Jul-2022 00:07 521  
[TXT]buildsrc-out.txt07-Jul-2022 00:07 866  
[   ]buildsrc-summary.dcf07-Jul-2022 00:07 443  
[TXT]checksrc-out.txt07-Jul-2022 00:07 3.7K 
[   ]checksrc-summary.dcf07-Jul-2022 00:07 449  
[TXT]install-out.txt07-Jul-2022 00:07 2.0K 
[   ]install-summary.dcf07-Jul-2022 00:07 610