![]() | Name | Last modified | Size | Description |
---|---|---|---|---|
![]() | Parent Directory | - | ||
![]() | buildsrc-out.txt | 01-Jul-2022 00:05 | 838 | |
![]() | buildsrc-summary.dcf | 01-Jul-2022 00:05 | 412 | |
![]() | checksrc-out.txt | 01-Jul-2022 00:05 | 3.7K | |
![]() | checksrc-summary.dcf | 01-Jul-2022 00:05 | 422 | |
![]() | install-out.txt | 01-Jul-2022 00:05 | 1.2K | |
![]() | install-summary.dcf | 01-Jul-2022 00:05 | 255 | |