Index of /checkResults/devel/bioc-LATEST/GmicR/raw-results/lconway

[ICO]NameLast modifiedSizeDescription

[DIR]Parent Directory  -  
[TXT]buildbin-out.txt25-Jun-2022 00:07 1.4K 
[   ]buildbin-summary.dcf25-Jun-2022 00:07 518  
[TXT]buildsrc-out.txt25-Jun-2022 00:07 848  
[   ]buildsrc-summary.dcf25-Jun-2022 00:07 422  
[TXT]checksrc-out.txt25-Jun-2022 00:07 3.8K 
[   ]checksrc-summary.dcf25-Jun-2022 00:07 443  
[TXT]install-out.txt25-Jun-2022 00:07 1.3K 
[   ]install-summary.dcf25-Jun-2022 00:07 265