Back to Multiple platform build/check report for BioC 3.15
ABCDEF[G]HIJKLMNOPQRSTUVWXYZ

This page was generated on 2022-01-24 11:07:27 -0500 (Mon, 24 Jan 2022).

HostnameOSArch (*)R versionInstalled pkgs
nebbiolo1Linux (Ubuntu 20.04.4 LTS)x86_64R Under development (unstable) (2022-01-05 r81451) -- "Unsuffered Consequences" 4163
riesling1Windows Server 2019 Standardx64R Under development (unstable) (2021-11-21 r81221) -- "Unsuffered Consequences" 4058
palomino3Windows Server 2022 Datacenterx64R Under development (unstable) (2021-12-21 r81400 ucrt) -- "Unsuffered Consequences" 4000
merida1macOS 10.14.6 Mojavex86_64R Under development (unstable) (2022-01-05 r81451) -- "Unsuffered Consequences" 4117
Click on any hostname to see more info about the system (e.g. compilers)      (*) as reported by 'uname -p', except on Windows and Mac OS X

INSTALL results for GlobalAncova on riesling1


To the developers/maintainers of the GlobalAncova package:
- Please allow up to 24 hours (and sometimes 48 hours) for your latest push to git@git.bioconductor.org:packages/GlobalAncova.git to
reflect on this report. See How and When does the builder pull? When will my changes propagate? here for more information.
- Make sure to use the following settings in order to reproduce any error or warning you see on this page.

raw results

Package 788/2075HostnameOS / ArchINSTALLBUILDCHECKBUILD BIN
GlobalAncova 4.13.0  (landing page)
Manuela Hummel
Snapshot Date: 2022-01-23 13:55:15 -0500 (Sun, 23 Jan 2022)
git_url: https://git.bioconductor.org/packages/GlobalAncova
git_branch: master
git_last_commit: 5ed28f4
git_last_commit_date: 2021-10-26 11:48:41 -0500 (Tue, 26 Oct 2021)
nebbiolo1Linux (Ubuntu 20.04.4 LTS) / x86_64  OK    OK    OK  UNNEEDED, same version is already published
riesling1Windows Server 2019 Standard / x64  OK    OK    OK    OK  
palomino3Windows Server 2022 Datacenter / x64  OK    OK    OK    OK  NO, package depends on 'globaltest' which is not available
merida1macOS 10.14.6 Mojave / x86_64  OK    OK    OK    OK  UNNEEDED, same version is already published

Summary

Package: GlobalAncova
Version: 4.13.0
Command: D:\biocbuild\bbs-3.15-bioc\R\bin\R.exe CMD INSTALL GlobalAncova
StartedAt: 2022-01-23 15:51:04 -0500 (Sun, 23 Jan 2022)
EndedAt: 2022-01-23 15:52:01 -0500 (Sun, 23 Jan 2022)
EllapsedTime: 56.9 seconds
RetCode: 0
Status:   OK  

Command output

##############################################################################
##############################################################################
###
### Running command:
###
###   D:\biocbuild\bbs-3.15-bioc\R\bin\R.exe CMD INSTALL GlobalAncova
###
##############################################################################
##############################################################################


* installing to library 'D:/biocbuild/bbs-3.15-bioc/R/library'
* installing *source* package 'GlobalAncova' ...
** using staged installation
** libs
"C:/rtools40/mingw64/bin/"gcc  -I"D:/biocbuild/bbs-3.15-bioc/R/include" -DNDEBUG     -I"C:/extsoft/include"     -O2 -Wall  -std=gnu99 -mfpmath=sse -msse2 -mstackrealign -fno-reorder-blocks-and-partition  -c GlobalAncova.c -o GlobalAncova.o
GlobalAncova.c: In function 'permut_withFperm':
GlobalAncova.c:166:8: warning: 'ord_perm' may be used uninitialized in this function [-Wmaybe-uninitialized]
   int *ord_perm ;
        ^~~~~~~~
GlobalAncova.c: In function 'permut':
GlobalAncova.c:268:8: warning: 'ord_perm' may be used uninitialized in this function [-Wmaybe-uninitialized]
   int *ord_perm ;
        ^~~~~~~~
"C:/rtools40/mingw64/bin/"gcc  -I"D:/biocbuild/bbs-3.15-bioc/R/include" -DNDEBUG     -I"C:/extsoft/include"     -O2 -Wall  -std=gnu99 -mfpmath=sse -msse2 -mstackrealign -fno-reorder-blocks-and-partition  -c ludcmp.c -o ludcmp.o
"C:/rtools40/mingw64/bin/"gcc  -I"D:/biocbuild/bbs-3.15-bioc/R/include" -DNDEBUG     -I"C:/extsoft/include"     -O2 -Wall  -std=gnu99 -mfpmath=sse -msse2 -mstackrealign -fno-reorder-blocks-and-partition  -c matrix.c -o matrix.o
C:/rtools40/mingw64/bin/gcc -shared -s -static-libgcc -o GlobalAncova.dll tmp.def GlobalAncova.o ludcmp.o matrix.o -LC:/extsoft/lib/x64 -LC:/extsoft/lib -LD:/biocbuild/bbs-3.15-bioc/R/bin/x64 -lR
installing to D:/biocbuild/bbs-3.15-bioc/R/library/00LOCK-GlobalAncova/00new/GlobalAncova/libs/x64
** R
** data
** inst
** byte-compile and prepare package for lazy loading
** help
*** installing help indices
  converting help for package 'GlobalAncova'
    finding HTML links ... done
    GAhier-class                            html  
    GlobalAncova-methods                    html  
    GlobalAncova                            html  
    GlobalAncova.closed-methods             html  
    GlobalAncova.closed                     html  
    GlobalAncova.decomp                     html  
    Plot.all                                html  
    Plot.features                           html  
    Plot.genes-methods                      html  
    Plot.genes                              html  
    Plot.sequential                         html  
    Plot.subjects-methods                   html  
    Plot.subjects                           html  
    bindata                                 html  
    colon.normal                            html  
    colon.pheno                             html  
    colon.tumour                            html  
    gGlobalAncova                           html  
    gGlobalAncova.hierarchical              html  
    genesettesting                          html  
    pair.compare                            html  
    pathways                                html  
    phenodata                               html  
    vantVeer                                html  
** building package indices
** installing vignettes
** testing if installed package can be loaded from temporary location
** testing if installed package can be loaded from final location
** testing if installed package keeps a record of temporary installation path
* DONE (GlobalAncova)
Making 'packages.html' ...Warning in packageDescription(i, lib.loc = lib, fields = "Title", encoding = "UTF-8") :
  DESCRIPTION file of package 'microbiome' is missing or broken
 done