Back to Multiple platform build/check report for BioC 3.15
ABCDEF[G]HIJKLMNOPQRSTUVWXYZ

This page was generated on 2022-01-26 11:11:37 -0500 (Wed, 26 Jan 2022).

HostnameOSArch (*)R versionInstalled pkgs
nebbiolo1Linux (Ubuntu 20.04.4 LTS)x86_64R Under development (unstable) (2022-01-05 r81451) -- "Unsuffered Consequences" 4164
riesling1Windows Server 2019 Standardx64R Under development (unstable) (2021-11-21 r81221) -- "Unsuffered Consequences" 4059
palomino3Windows Server 2022 Datacenterx64R Under development (unstable) (2021-12-21 r81400 ucrt) -- "Unsuffered Consequences" 4001
merida1macOS 10.14.6 Mojavex86_64R Under development (unstable) (2022-01-05 r81451) -- "Unsuffered Consequences" 4118
Click on any hostname to see more info about the system (e.g. compilers)      (*) as reported by 'uname -p', except on Windows and Mac OS X

BUILD BIN results for GlobalAncova on merida1


To the developers/maintainers of the GlobalAncova package:
- Please allow up to 24 hours (and sometimes 48 hours) for your latest push to git@git.bioconductor.org:packages/GlobalAncova.git to
reflect on this report. See How and When does the builder pull? When will my changes propagate? here for more information.
- Make sure to use the following settings in order to reproduce any error or warning you see on this page.

raw results

Package 788/2075HostnameOS / ArchINSTALLBUILDCHECKBUILD BIN
GlobalAncova 4.13.0  (landing page)
Manuela Hummel
Snapshot Date: 2022-01-25 13:55:17 -0500 (Tue, 25 Jan 2022)
git_url: https://git.bioconductor.org/packages/GlobalAncova
git_branch: master
git_last_commit: 5ed28f4
git_last_commit_date: 2021-10-26 11:48:41 -0500 (Tue, 26 Oct 2021)
nebbiolo1Linux (Ubuntu 20.04.4 LTS) / x86_64  OK    OK    OK  UNNEEDED, same version is already published
riesling1Windows Server 2019 Standard / x64  OK    OK    OK    OK  
palomino3Windows Server 2022 Datacenter / x64  OK    OK    OK    OK  NO, package depends on 'globaltest' which is not available
merida1macOS 10.14.6 Mojave / x86_64  OK    OK    OK    OK  UNNEEDED, same version is already published

Summary

Package: GlobalAncova
Version: 4.13.0
Command: rm -rf GlobalAncova.buildbin-libdir && mkdir GlobalAncova.buildbin-libdir && /Users/biocbuild/BBS/utils/build-universal.sh GlobalAncova_4.13.0.tar.gz /Library/Frameworks/R.framework/Resources/bin/R GlobalAncova.buildbin-libdir
StartedAt: 2022-01-26 08:00:16 -0500 (Wed, 26 Jan 2022)
EndedAt: 2022-01-26 08:01:09 -0500 (Wed, 26 Jan 2022)
EllapsedTime: 52.6 seconds
RetCode: 0
Status:   OK  
PackageFile: GlobalAncova_4.13.0.tgz
PackageFileSize: 1.446 MiB

Command output

##############################################################################
##############################################################################
###
### Running command:
###
###   rm -rf GlobalAncova.buildbin-libdir && mkdir GlobalAncova.buildbin-libdir && /Users/biocbuild/BBS/utils/build-universal.sh GlobalAncova_4.13.0.tar.gz /Library/Frameworks/R.framework/Resources/bin/R GlobalAncova.buildbin-libdir
###
##############################################################################
##############################################################################


>>>>>>> 
>>>>>>> INSTALLATION WITH 'R CMD INSTALL --preclean --no-multiarch --library=GlobalAncova.buildbin-libdir GlobalAncova_4.13.0.tar.gz'
>>>>>>> 

* installing *source* package ‘GlobalAncova’ ...
** using staged installation
** libs
clang -mmacosx-version-min=10.13 -I"/Library/Frameworks/R.framework/Resources/include" -DNDEBUG   -I/usr/local/include   -fPIC  -Wall -g -O2  -c GlobalAncova.c -o GlobalAncova.o
clang -mmacosx-version-min=10.13 -I"/Library/Frameworks/R.framework/Resources/include" -DNDEBUG   -I/usr/local/include   -fPIC  -Wall -g -O2  -c ludcmp.c -o ludcmp.o
clang -mmacosx-version-min=10.13 -I"/Library/Frameworks/R.framework/Resources/include" -DNDEBUG   -I/usr/local/include   -fPIC  -Wall -g -O2  -c matrix.c -o matrix.o
clang -mmacosx-version-min=10.13 -dynamiclib -Wl,-headerpad_max_install_names -undefined dynamic_lookup -single_module -multiply_defined suppress -L/Library/Frameworks/R.framework/Resources/lib -L/usr/local/lib -o GlobalAncova.so GlobalAncova.o ludcmp.o matrix.o -F/Library/Frameworks/R.framework/.. -framework R -Wl,-framework -Wl,CoreFoundation
installing to /Users/biocbuild/bbs-3.15-bioc/meat/GlobalAncova.buildbin-libdir/00LOCK-GlobalAncova/00new/GlobalAncova/libs
** R
** data
** inst
** byte-compile and prepare package for lazy loading
** help
*** installing help indices
** building package indices
** installing vignettes
** testing if installed package can be loaded from temporary location
** checking absolute paths in shared objects and dynamic libraries
** testing if installed package can be loaded from final location
** testing if installed package keeps a record of temporary installation path
* DONE (GlobalAncova)


>>>>>>> 
>>>>>>> FIXING LINKS FOR GlobalAncova.buildbin-libdir/GlobalAncova/libs/GlobalAncova.so
>>>>>>> 

install_name_tool -change "/usr/local/lib/libgcc_s.1.dylib" "/Library/Frameworks/R.framework/Versions/4.2/Resources/lib/libgcc_s.1.dylib" "GlobalAncova.buildbin-libdir/GlobalAncova/libs/GlobalAncova.so"
install_name_tool -change "/usr/local/lib/libgfortran.5.dylib" "/Library/Frameworks/R.framework/Versions/4.2/Resources/lib/libgfortran.5.dylib" "GlobalAncova.buildbin-libdir/GlobalAncova/libs/GlobalAncova.so"
install_name_tool -change "/usr/local/lib/libquadmath.0.dylib" "/Library/Frameworks/R.framework/Versions/4.2/Resources/lib/libquadmath.0.dylib" "GlobalAncova.buildbin-libdir/GlobalAncova/libs/GlobalAncova.so"