Name | Last modified | Size | Description | |
---|---|---|---|---|
Parent Directory | - | |||
checksrc-out.txt | 28-Jun-2024 00:37 | 3.3K | ||
install-out.txt | 28-Jun-2024 00:37 | 963 | ||
buildsrc-out.txt | 28-Jun-2024 00:37 | 896 | ||
buildsrc-summary.dcf | 28-Jun-2024 00:37 | 424 | ||
checksrc-summary.dcf | 28-Jun-2024 00:37 | 416 | ||
install-summary.dcf | 28-Jun-2024 00:37 | 260 | ||