Back to Multiple platform build/check report for BioC 3.15
ABCDEF[G]HIJKLMNOPQRSTUVWXYZ

This page was generated on 2021-11-27 14:05:04 -0500 (Sat, 27 Nov 2021).

BUILD BIN results for Glimma on riesling1

To the developers/maintainers of the Glimma package:
- Please allow up to 24 hours (and sometimes 48 hours) for your latest push to git@git.bioconductor.org:packages/Glimma.git to
reflect on this report. See How and When does the builder pull? When will my changes propagate? here for more information.
- Make sure to use the following settings in order to reproduce any error or warning you see on this page.

raw results

Package 780/2068HostnameOS / ArchINSTALLBUILDCHECKBUILD BIN
Glimma 2.5.1  (landing page)
Shian Su
Snapshot Date: 2021-11-26 14:50:14 -0500 (Fri, 26 Nov 2021)
git_url: https://git.bioconductor.org/packages/Glimma
git_branch: master
git_last_commit: 043d892
git_last_commit_date: 2021-11-20 04:06:42 -0500 (Sat, 20 Nov 2021)
nebbiolo1Linux (Ubuntu 20.04.3 LTS) / x86_64  OK    OK    ERROR  
riesling1Windows Server 2019 Standard / x64  OK    OK    ERROR    OK  
merida1macOS 10.14.6 Mojave / x86_64  OK    OK    ERROR    OK  

Summary

Package: Glimma
Version: 2.5.1
Command: rm -rf Glimma.buildbin-libdir && mkdir Glimma.buildbin-libdir && D:\biocbuild\bbs-3.15-bioc\R\bin\R.exe CMD INSTALL --merge-multiarch --build --library=Glimma.buildbin-libdir Glimma_2.5.1.tar.gz
StartedAt: 2021-11-27 06:22:18 -0500 (Sat, 27 Nov 2021)
EndedAt: 2021-11-27 06:26:59 -0500 (Sat, 27 Nov 2021)
EllapsedTime: 281.1 seconds
RetCode: 0
Status:   OK  
PackageFile: Glimma_2.5.1.zip
PackageFileSize: 8.874 MiB

Command output

##############################################################################
##############################################################################
###
### Running command:
###
###   rm -rf Glimma.buildbin-libdir && mkdir Glimma.buildbin-libdir && D:\biocbuild\bbs-3.15-bioc\R\bin\R.exe CMD INSTALL --merge-multiarch --build --library=Glimma.buildbin-libdir Glimma_2.5.1.tar.gz
###
##############################################################################
##############################################################################


only one architecture so ignoring '--merge-multiarch'
* installing *source* package 'Glimma' ...
** using staged installation
** R
** inst
** byte-compile and prepare package for lazy loading
** help
*** installing help indices
  converting help for package 'Glimma'
    finding HTML links ... done
    arraydata                               html  
    as.hexcol                               html  
    buildXYData                             html  
    extractGroups                           html  
    glBar                                   html  
    glBar.default                           html  
    glMDPlot.DESeqDataSet                   html  
    glMDPlot.DESeqResults                   html  
    glMDPlot.DGEExact                       html  
    glMDPlot.DGELRT                         html  
    glMDPlot.MArrayLM                       html  
    glMDPlot                                html  
    glMDPlot.default                        html  
    glMDRmd                                 html  
    glMDSPlot.DESeqDataSet                  html  
    glMDSPlot.DGEList                       html  
    glMDSPlot                               html  
    glMDSPlot.default                       html  
    glScatter                               html  
    glScatter.default                       html  
    glTable                                 html  
    glXYPlot                                html  
    glimma                                  html  
    glimmaMA.DESeqDataSet                   html  
    glimmaMA.DGEExact                       html  
    glimmaMA.DGELRT                         html  
    glimmaMA.MArrayLM                       html  
    glimmaMA                                html  
    finding level-2 HTML links ... done

    glimmaMDS.DESeqDataSet                  html  
    glimmaMDS.DGEList                       html  
    glimmaMDS                               html  
    glimmaMDS.default                       html  
    glimmaVolcano.DESeqDataSet              html  
    glimmaVolcano.DGEExact                  html  
    glimmaVolcano.DGELRT                    html  
    glimmaVolcano.MArrayLM                  html  
    glimmaVolcano                           html  
    glimmaXY                                html  
    glimmaXYWidget                          html  
    glimma_plot                             html  
    gllink                                  html  
    gltablink                               html  
    is.hex                                  html  
    lymphomaRNAseq                          html  
    makeJson                                html  
    makeJson.data.frame                     html  
    makeJson.jschart                        html  
** building package indices
** installing vignettes
** testing if installed package can be loaded from temporary location
** testing if installed package can be loaded from final location
** testing if installed package keeps a record of temporary installation path
* MD5 sums
packaged installation of 'Glimma' as Glimma_2.5.1.zip
* DONE (Glimma)