Index of /checkResults/devel/bioc-LATEST/Glimma/raw-results/kunpeng2
Name
Last modified
Size
Description
Parent Directory
-
buildsrc-out.txt
29-Mar-2024 00:40
1.3K
buildsrc-summary.dcf
29-Mar-2024 00:40
341
install-out.txt
29-Mar-2024 00:40
967
install-summary.dcf
29-Mar-2024 00:40
266