Name | Last modified | Size | Description | |
---|---|---|---|---|
Parent Directory | - | |||
buildsrc-out.txt | 16-Jun-2024 01:33 | 841 | ||
buildsrc-summary.dcf | 16-Jun-2024 01:33 | 431 | ||
checksrc-out.txt | 16-Jun-2024 01:33 | 5.3K | ||
checksrc-summary.dcf | 16-Jun-2024 01:33 | 425 | ||
install-out.txt | 16-Jun-2024 01:33 | 961 | ||
install-summary.dcf | 16-Jun-2024 01:33 | 264 | ||