Name | Last modified | Size | Description | |
---|---|---|---|---|
Parent Directory | - | |||
buildsrc-out.txt | 29-Mar-2024 00:36 | 1.4K | ||
buildsrc-summary.dcf | 29-Mar-2024 00:36 | 339 | ||
checksrc-out.txt | 08-Mar-2024 02:01 | 5.3K | ||
checksrc-summary.dcf | 08-Mar-2024 02:01 | 425 | ||
install-out.txt | 29-Mar-2024 00:36 | 961 | ||
install-summary.dcf | 29-Mar-2024 00:36 | 264 | ||