Name | Last modified | Size | Description | |
---|---|---|---|---|
Parent Directory | - | |||
buildbin-out.txt | 17-Jul-2024 00:43 | 9.4K | ||
buildbin-summary.dcf | 17-Jul-2024 00:43 | 530 | ||
buildsrc-out.txt | 17-Jul-2024 00:43 | 909 | ||
buildsrc-summary.dcf | 17-Jul-2024 00:43 | 427 | ||
checksrc-out.txt | 17-Jul-2024 00:43 | 4.2K | ||
checksrc-summary.dcf | 17-Jul-2024 00:43 | 444 | ||
install-out.txt | 17-Jul-2024 00:43 | 5.8K | ||
install-summary.dcf | 17-Jul-2024 00:43 | 269 | ||