Name | Last modified | Size | Description | |
---|---|---|---|---|
Parent Directory | - | |||
install-out.txt | 13-Jul-2024 01:34 | 2.7K | ||
install-summary.dcf | 13-Jul-2024 01:34 | 280 | ||
buildsrc-summary.dcf | 13-Jul-2024 01:34 | 445 | ||
buildsrc-out.txt | 13-Jul-2024 01:34 | 870 | ||
checksrc-summary.dcf | 13-Jul-2024 01:34 | 467 | ||
checksrc-out.txt | 13-Jul-2024 01:34 | 4.7K | ||
buildbin-out.txt | 13-Jul-2024 01:34 | 4.9K | ||
buildbin-summary.dcf | 13-Jul-2024 01:34 | 566 | ||