The requested URL /checkResults/devel/bioc-LATEST/GenomicScores/riesling1-install.html was not found on this server.