Name | Last modified | Size | Description | |
---|---|---|---|---|
Parent Directory | - | |||
install-out.txt | 27-Jul-2024 00:38 | 970 | ||
install-summary.dcf | 27-Jul-2024 00:38 | 271 | ||
buildsrc-summary.dcf | 27-Jul-2024 00:38 | 442 | ||
buildsrc-out.txt | 27-Jul-2024 00:38 | 854 | ||
checksrc-out.txt | 27-Jul-2024 00:38 | 3.7K | ||
checksrc-summary.dcf | 27-Jul-2024 00:38 | 438 | ||