![]() | Name | Last modified | Size | Description |
---|---|---|---|---|
![]() | Parent Directory | - | ||
![]() | buildsrc-out.txt | 24-Sep-2023 00:36 | 830 | |
![]() | buildsrc-summary.dcf | 24-Sep-2023 00:36 | 436 | |
![]() | checksrc-out.txt | 24-Sep-2023 00:36 | 3.9K | |
![]() | checksrc-summary.dcf | 24-Sep-2023 00:36 | 438 | |
![]() | install-out.txt | 24-Sep-2023 00:36 | 970 | |
![]() | install-summary.dcf | 24-Sep-2023 00:36 | 271 | |