Name | Last modified | Size | Description | |
---|---|---|---|---|
Parent Directory | - | |||
buildsrc-out.txt | 29-Mar-2024 00:36 | 830 | ||
buildsrc-summary.dcf | 29-Mar-2024 00:36 | 436 | ||
checksrc-out.txt | 29-Mar-2024 00:36 | 5.5K | ||
checksrc-summary.dcf | 29-Mar-2024 00:36 | 438 | ||
install-out.txt | 29-Mar-2024 00:36 | 970 | ||
install-summary.dcf | 29-Mar-2024 00:36 | 271 | ||