Name | Last modified | Size | Description | |
---|---|---|---|---|
Parent Directory | - | |||
install-summary.dcf | 07-Jul-2024 00:44 | 259 | ||
install-out.txt | 07-Jul-2024 00:44 | 952 | ||
checksrc-summary.dcf | 05-Jul-2024 00:44 | 429 | ||
checksrc-out.txt | 05-Jul-2024 00:44 | 3.9K | ||
buildsrc-summary.dcf | 09-Jul-2024 00:44 | 333 | ||
buildsrc-out.txt | 09-Jul-2024 00:44 | 1.1K | ||