![]() | Name | Last modified | Size | Description |
---|---|---|---|---|
![]() | Parent Directory | - | ||
![]() | buildsrc-out.txt | 01-Oct-2023 00:40 | 824 | |
![]() | buildsrc-summary.dcf | 01-Oct-2023 00:40 | 430 | |
![]() | checksrc-out.txt | 01-Oct-2023 00:40 | 3.8K | |
![]() | checksrc-summary.dcf | 01-Oct-2023 00:40 | 426 | |
![]() | install-out.txt | 01-Oct-2023 00:40 | 958 | |
![]() | install-summary.dcf | 01-Oct-2023 00:40 | 265 | |