Back to Multiple platform build/check report for BioC 3.15
ABCDEF[G]HIJKLMNOPQRSTUVWXYZ

This page was generated on 2022-01-18 11:07:22 -0500 (Tue, 18 Jan 2022).

HostnameOSArch (*)R versionInstalled pkgs
nebbiolo1Linux (Ubuntu 20.04.4 LTS)x86_64R Under development (unstable) (2022-01-05 r81451) -- "Unsuffered Consequences" 4161
riesling1Windows Server 2019 Standardx64R Under development (unstable) (2021-11-21 r81221) -- "Unsuffered Consequences" 4056
palomino3Windows Server 2022 Datacenterx64R Under development (unstable) (2021-12-21 r81400 ucrt) -- "Unsuffered Consequences" 3998
merida1macOS 10.14.6 Mojavex86_64R Under development (unstable) (2022-01-05 r81451) -- "Unsuffered Consequences" 4115
Click on any hostname to see more info about the system (e.g. compilers)      (*) as reported by 'uname -p', except on Windows and Mac OS X

CHECK results for GenomicRanges on riesling1


To the developers/maintainers of the GenomicRanges package:
- Please allow up to 24 hours (and sometimes 48 hours) for your latest push to git@git.bioconductor.org:packages/GenomicRanges.git to
reflect on this report. See How and When does the builder pull? When will my changes propagate? here for more information.
- Make sure to use the following settings in order to reproduce any error or warning you see on this page.

raw results

Package 753/2074HostnameOS / ArchINSTALLBUILDCHECKBUILD BIN
GenomicRanges 1.47.6  (landing page)
Bioconductor Package Maintainer
Snapshot Date: 2022-01-17 13:55:17 -0500 (Mon, 17 Jan 2022)
git_url: https://git.bioconductor.org/packages/GenomicRanges
git_branch: master
git_last_commit: 3cd3c8d
git_last_commit_date: 2022-01-11 16:33:00 -0500 (Tue, 11 Jan 2022)
nebbiolo1Linux (Ubuntu 20.04.4 LTS) / x86_64  OK    OK    OK  UNNEEDED, same version is already published
riesling1Windows Server 2019 Standard / x64  OK    OK    OK    OK  
palomino3Windows Server 2022 Datacenter / x64  OK    OK    OK    OK  NO, package depends on 'BiocGenerics' which is not available
merida1macOS 10.14.6 Mojave / x86_64  OK    OK    OK    OK  UNNEEDED, same version is already published

Summary

Package: GenomicRanges
Version: 1.47.6
Command: D:\biocbuild\bbs-3.15-bioc\R\bin\R.exe CMD check --no-multiarch --install=check:GenomicRanges.install-out.txt --library=D:\biocbuild\bbs-3.15-bioc\R\library --no-vignettes --timings GenomicRanges_1.47.6.tar.gz
StartedAt: 2022-01-17 19:03:10 -0500 (Mon, 17 Jan 2022)
EndedAt: 2022-01-17 19:07:12 -0500 (Mon, 17 Jan 2022)
EllapsedTime: 242.2 seconds
RetCode: 0
Status:   OK  
CheckDir: GenomicRanges.Rcheck
Warnings: 0

Command output

##############################################################################
##############################################################################
###
### Running command:
###
###   D:\biocbuild\bbs-3.15-bioc\R\bin\R.exe CMD check --no-multiarch --install=check:GenomicRanges.install-out.txt --library=D:\biocbuild\bbs-3.15-bioc\R\library --no-vignettes --timings GenomicRanges_1.47.6.tar.gz
###
##############################################################################
##############################################################################


* using log directory 'D:/biocbuild/bbs-3.15-bioc/meat/GenomicRanges.Rcheck'
* using R Under development (unstable) (2021-11-21 r81221)
* using platform: x86_64-w64-mingw32 (64-bit)
* using session charset: ISO8859-1
* using option '--no-vignettes'
* checking for file 'GenomicRanges/DESCRIPTION' ... OK
* this is package 'GenomicRanges' version '1.47.6'
* package encoding: UTF-8
* checking package namespace information ... OK
* checking package dependencies ... OK
* checking if this is a source package ... OK
* checking if there is a namespace ... OK
* checking for hidden files and directories ... OK
* checking for portable file names ... OK
* checking whether package 'GenomicRanges' can be installed ... OK
* checking installed package size ... OK
* checking package directory ... OK
* checking 'build' directory ... OK
* checking DESCRIPTION meta-information ... OK
* checking top-level files ... OK
* checking for left-over files ... OK
* checking index information ... OK
* checking package subdirectories ... OK
* checking R files for non-ASCII characters ... OK
* checking R files for syntax errors ... OK
* checking whether the package can be loaded ... OK
* checking whether the package can be loaded with stated dependencies ... OK
* checking whether the package can be unloaded cleanly ... OK
* checking whether the namespace can be loaded with stated dependencies ... OK
* checking whether the namespace can be unloaded cleanly ... OK
* checking dependencies in R code ... OK
* checking S3 generic/method consistency ... OK
* checking replacement functions ... OK
* checking foreign function calls ... OK
* checking R code for possible problems ... OK
* checking Rd files ... OK
* checking Rd metadata ... OK
* checking Rd cross-references ... OK
* checking for missing documentation entries ... OK
* checking for code/documentation mismatches ... OK
* checking Rd \usage sections ... OK
* checking Rd contents ... OK
* checking for unstated dependencies in examples ... OK
* checking line endings in C/C++/Fortran sources/headers ... OK
* checking compiled code ... NOTE
Note: information on .o files for x64 is not available
File 'D:/biocbuild/bbs-3.15-bioc/R/library/GenomicRanges/libs/x64/GenomicRanges.dll':
  Found 'abort', possibly from 'abort' (C), 'runtime' (Fortran)

Compiled code should not call entry points which might terminate R nor
write to stdout/stderr instead of to the console, nor use Fortran I/O
nor system RNGs. The detected symbols are linked into the code but
might come from libraries and not actually be called.

See 'Writing portable packages' in the 'Writing R Extensions' manual.
* checking files in 'vignettes' ... OK
* checking examples ... OK
Examples with CPU (user + system) or elapsed time > 5s
                          user system elapsed
genomicvars              35.94  17.28   53.22
GPos-class               33.22   7.37   41.72
makeGRangesFromDataFrame  0.66   0.00   10.80
* checking for unstated dependencies in 'tests' ... OK
* checking tests ...
  Running 'run_unitTests.R'
 OK
* checking for unstated dependencies in vignettes ... OK
* checking package vignettes in 'inst/doc' ... OK
* checking running R code from vignettes ... SKIPPED
* checking re-building of vignette outputs ... SKIPPED
* checking PDF version of manual ... OK
* DONE

Status: 1 NOTE
See
  'D:/biocbuild/bbs-3.15-bioc/meat/GenomicRanges.Rcheck/00check.log'
for details.



Installation output

GenomicRanges.Rcheck/00install.out

##############################################################################
##############################################################################
###
### Running command:
###
###   D:\biocbuild\bbs-3.15-bioc\R\bin\R.exe CMD INSTALL GenomicRanges
###
##############################################################################
##############################################################################


* installing to library 'D:/biocbuild/bbs-3.15-bioc/R/library'
* installing *source* package 'GenomicRanges' ...
** using staged installation
** libs
"C:/rtools40/mingw64/bin/"gcc  -I"D:/biocbuild/bbs-3.15-bioc/R/include" -DNDEBUG  -I'D:/biocbuild/bbs-3.15-bioc/R/library/S4Vectors/include' -I'D:/biocbuild/bbs-3.15-bioc/R/library/IRanges/include'   -I"C:/extsoft/include"     -O2 -Wall  -std=gnu99 -mfpmath=sse -msse2 -mstackrealign -fno-reorder-blocks-and-partition  -c IRanges_stubs.c -o IRanges_stubs.o
"C:/rtools40/mingw64/bin/"gcc  -I"D:/biocbuild/bbs-3.15-bioc/R/include" -DNDEBUG  -I'D:/biocbuild/bbs-3.15-bioc/R/library/S4Vectors/include' -I'D:/biocbuild/bbs-3.15-bioc/R/library/IRanges/include'   -I"C:/extsoft/include"     -O2 -Wall  -std=gnu99 -mfpmath=sse -msse2 -mstackrealign -fno-reorder-blocks-and-partition  -c R_init_GenomicRanges.c -o R_init_GenomicRanges.o
"C:/rtools40/mingw64/bin/"gcc  -I"D:/biocbuild/bbs-3.15-bioc/R/include" -DNDEBUG  -I'D:/biocbuild/bbs-3.15-bioc/R/library/S4Vectors/include' -I'D:/biocbuild/bbs-3.15-bioc/R/library/IRanges/include'   -I"C:/extsoft/include"     -O2 -Wall  -std=gnu99 -mfpmath=sse -msse2 -mstackrealign -fno-reorder-blocks-and-partition  -c S4Vectors_stubs.c -o S4Vectors_stubs.o
"C:/rtools40/mingw64/bin/"gcc  -I"D:/biocbuild/bbs-3.15-bioc/R/include" -DNDEBUG  -I'D:/biocbuild/bbs-3.15-bioc/R/library/S4Vectors/include' -I'D:/biocbuild/bbs-3.15-bioc/R/library/IRanges/include'   -I"C:/extsoft/include"     -O2 -Wall  -std=gnu99 -mfpmath=sse -msse2 -mstackrealign -fno-reorder-blocks-and-partition  -c transcript_utils.c -o transcript_utils.o
transcript_utils.c: In function 'tlocs2rlocs':
transcript_utils.c:143:38: warning: 'end' may be used uninitialized in this function [-Wmaybe-uninitialized]
  return on_minus_strand ? end - tloc : start + tloc;
         ~~~~~~~~~~~~~~~~~~~~~~~~~~~~~^~~~~~~~~~~~~~
transcript_utils.c:120:24: note: 'end' was declared here
  int nexons, j, start, end, width;
                        ^~~
transcript_utils.c:143:38: warning: 'start' may be used uninitialized in this function [-Wmaybe-uninitialized]
  return on_minus_strand ? end - tloc : start + tloc;
         ~~~~~~~~~~~~~~~~~~~~~~~~~~~~~^~~~~~~~~~~~~~
transcript_utils.c:120:17: note: 'start' was declared here
  int nexons, j, start, end, width;
                 ^~~~~
C:/rtools40/mingw64/bin/gcc -shared -s -static-libgcc -o GenomicRanges.dll tmp.def IRanges_stubs.o R_init_GenomicRanges.o S4Vectors_stubs.o transcript_utils.o -LC:/extsoft/lib/x64 -LC:/extsoft/lib -LD:/biocbuild/bbs-3.15-bioc/R/bin/x64 -lR
installing to D:/biocbuild/bbs-3.15-bioc/R/library/00LOCK-GenomicRanges/00new/GenomicRanges/libs/x64
** R
** inst
** byte-compile and prepare package for lazy loading
** help
*** installing help indices
  converting help for package 'GenomicRanges'
    finding HTML links ... done
    DelegatingGenomicRanges-class           html  
    GNCList-class                           html  
    GPos-class                              html  
    finding level-2 HTML links ... done

    GRanges-class                           html  
    GRangesFactor-class                     html  
REDIRECT:topic	 Previous alias or file overwritten by alias: D:/biocbuild/bbs-3.15-bioc/R/library/00LOCK-GenomicRanges/00new/GenomicRanges/help/coerce+2CFactor+2CGRanges-method.html
    GRangesList-class                       html  
REDIRECT:topic	 Previous alias or file overwritten by alias: D:/biocbuild/bbs-3.15-bioc/R/library/00LOCK-GenomicRanges/00new/GenomicRanges/help/coerce+2CList+2CSimpleGRangesList-method.html
REDIRECT:topic	 Previous alias or file overwritten by alias: D:/biocbuild/bbs-3.15-bioc/R/library/00LOCK-GenomicRanges/00new/GenomicRanges/help/coerce+2CList+2CCompressedGRangesList-method.html
REDIRECT:topic	 Previous alias or file overwritten by alias: D:/biocbuild/bbs-3.15-bioc/R/library/00LOCK-GenomicRanges/00new/GenomicRanges/help/coerce+2CList+2CGRangesList-method.html
    GenomicRanges-comparison                html  
    GenomicRangesList-class                 html  
    absoluteRanges                          html  
    constraint                              html  
REDIRECT:topic	 Previous alias or file overwritten by alias: D:/biocbuild/bbs-3.15-bioc/R/library/00LOCK-GenomicRanges/00new/GenomicRanges/help/constraint.html
    coverage-methods                        html  
    findOverlaps-methods                    html  
    genomic-range-squeezers                 html  
REDIRECT:topic	 Previous alias or file overwritten by alias: D:/biocbuild/bbs-3.15-bioc/R/library/00LOCK-GenomicRanges/00new/GenomicRanges/help/granges.html
    genomicvars                             html  
    inter-range-methods                     html  
    intra-range-methods                     html  
    makeGRangesFromDataFrame                html  
    makeGRangesListFromDataFrame            html  
    nearest-methods                         html  
    phicoef                                 html  
    setops-methods                          html  
    strand-utils                            html  
    subtract-methods                        html  
    tile-methods                            html  
    tileGenome                              html  
** building package indices
** installing vignettes
** testing if installed package can be loaded from temporary location
** testing if installed package can be loaded from final location
** testing if installed package keeps a record of temporary installation path
* DONE (GenomicRanges)
Making 'packages.html' ...Warning in packageDescription(i, lib.loc = lib, fields = "Title", encoding = "UTF-8") :
  DESCRIPTION file of package 'MSstatsTMT' is missing or broken
 done

Tests output

GenomicRanges.Rcheck/tests/run_unitTests.Rout


R Under development (unstable) (2021-11-21 r81221) -- "Unsuffered Consequences"
Copyright (C) 2021 The R Foundation for Statistical Computing
Platform: x86_64-w64-mingw32/x64 (64-bit)

R is free software and comes with ABSOLUTELY NO WARRANTY.
You are welcome to redistribute it under certain conditions.
Type 'license()' or 'licence()' for distribution details.

R is a collaborative project with many contributors.
Type 'contributors()' for more information and
'citation()' on how to cite R or R packages in publications.

Type 'demo()' for some demos, 'help()' for on-line help, or
'help.start()' for an HTML browser interface to help.
Type 'q()' to quit R.

> require("GenomicRanges") || stop("unable to load GenomicRanges package")
Loading required package: GenomicRanges
Loading required package: stats4
Loading required package: BiocGenerics

Attaching package: 'BiocGenerics'

The following objects are masked from 'package:stats':

    IQR, mad, sd, var, xtabs

The following objects are masked from 'package:base':

    Filter, Find, Map, Position, Reduce, anyDuplicated, append,
    as.data.frame, basename, cbind, colnames, dirname, do.call,
    duplicated, eval, evalq, get, grep, grepl, intersect, is.unsorted,
    lapply, mapply, match, mget, order, paste, pmax, pmax.int, pmin,
    pmin.int, rank, rbind, rownames, sapply, setdiff, sort, table,
    tapply, union, unique, unsplit, which.max, which.min

Loading required package: S4Vectors

Attaching package: 'S4Vectors'

The following objects are masked from 'package:base':

    I, expand.grid, unname

Loading required package: IRanges

Attaching package: 'IRanges'

The following object is masked from 'package:grDevices':

    windows

Loading required package: GenomeInfoDb
[1] TRUE
> GenomicRanges:::.test()


RUNIT TEST PROTOCOL -- Mon Jan 17 19:07:01 2022 
*********************************************** 
Number of test functions: 73 
Number of errors: 0 
Number of failures: 0 

 
1 Test Suite : 
GenomicRanges RUnit Tests - 73 test functions, 0 errors, 0 failures
Number of test functions: 73 
Number of errors: 0 
Number of failures: 0 
> 
> proc.time()
   user  system elapsed 
  36.31    0.26   36.54 

Example timings

GenomicRanges.Rcheck/GenomicRanges-Ex.timings

nameusersystemelapsed
GNCList-class0.380.030.41
GPos-class33.22 7.3741.72
GRanges-class0.720.050.77
GRangesFactor-class0.410.000.40
GRangesList-class0.470.000.47
GenomicRanges-comparison0.170.000.17
absoluteRanges0.750.030.79
constraint0.650.020.68
coverage-methods0.190.000.19
findOverlaps-methods0.860.000.86
genomic-range-squeezers000
genomicvars35.9417.2853.22
inter-range-methods2.220.522.73
intra-range-methods0.540.000.55
makeGRangesFromDataFrame 0.66 0.0010.80
makeGRangesListFromDataFrame0.110.010.12
nearest-methods1.340.021.36
phicoef000
setops-methods2.890.002.89
strand-utils0.090.000.09
subtract-methods0.290.000.28
tile-methods0.090.000.10
tileGenome0.250.000.25