Back to Multiple platform build/check report for BioC 3.15
ABCDEF[G]HIJKLMNOPQRSTUVWXYZ

This page was generated on 2022-01-28 11:07:51 -0500 (Fri, 28 Jan 2022).

HostnameOSArch (*)R versionInstalled pkgs
nebbiolo1Linux (Ubuntu 20.04.4 LTS)x86_64R Under development (unstable) (2022-01-05 r81451) -- "Unsuffered Consequences" 4167
riesling1Windows Server 2019 Standardx64R Under development (unstable) (2021-11-21 r81221) -- "Unsuffered Consequences" 4062
palomino3Windows Server 2022 Datacenterx64R Under development (unstable) (2021-12-21 r81400 ucrt) -- "Unsuffered Consequences" 4004
merida1macOS 10.14.6 Mojavex86_64R Under development (unstable) (2022-01-05 r81451) -- "Unsuffered Consequences" 4121
Click on any hostname to see more info about the system (e.g. compilers)      (*) as reported by 'uname -p', except on Windows and Mac OS X

INSTALL results for GenomicInteractions on riesling1


To the developers/maintainers of the GenomicInteractions package:
- Please allow up to 24 hours (and sometimes 48 hours) for your latest push to git@git.bioconductor.org:packages/GenomicInteractions.git to
reflect on this report. See How and When does the builder pull? When will my changes propagate? here for more information.
- Make sure to use the following settings in order to reproduce any error or warning you see on this page.

raw results

Package 752/2077HostnameOS / ArchINSTALLBUILDCHECKBUILD BIN
GenomicInteractions 1.29.2  (landing page)
Liz Ing-Simmons
Snapshot Date: 2022-01-27 13:55:17 -0500 (Thu, 27 Jan 2022)
git_url: https://git.bioconductor.org/packages/GenomicInteractions
git_branch: master
git_last_commit: a909e6c
git_last_commit_date: 2021-11-21 06:05:42 -0500 (Sun, 21 Nov 2021)
nebbiolo1Linux (Ubuntu 20.04.4 LTS) / x86_64  OK    OK    OK  UNNEEDED, same version is already published
riesling1Windows Server 2019 Standard / x64  OK    OK    OK    OK  
palomino3Windows Server 2022 Datacenter / x64  OK    OK    OK    OK  NO, package depends on 'InteractionSet' which is not available
merida1macOS 10.14.6 Mojave / x86_64  OK    OK    OK    OK  UNNEEDED, same version is already published

Summary

Package: GenomicInteractions
Version: 1.29.2
Command: D:\biocbuild\bbs-3.15-bioc\R\bin\R.exe CMD INSTALL GenomicInteractions
StartedAt: 2022-01-27 16:08:46 -0500 (Thu, 27 Jan 2022)
EndedAt: 2022-01-27 16:10:41 -0500 (Thu, 27 Jan 2022)
EllapsedTime: 115.0 seconds
RetCode: 0
Status:   OK  

Command output

##############################################################################
##############################################################################
###
### Running command:
###
###   D:\biocbuild\bbs-3.15-bioc\R\bin\R.exe CMD INSTALL GenomicInteractions
###
##############################################################################
##############################################################################


* installing to library 'D:/biocbuild/bbs-3.15-bioc/R/library'
* installing *source* package 'GenomicInteractions' ...
** using staged installation
** R
** data
** inst
** byte-compile and prepare package for lazy loading
** help
*** installing help indices
  converting help for package 'GenomicInteractions'
    finding HTML links ... done
    GInteractions-subsetByFeatures-methods
                                            html  
    GenomicInteractions-class               html  
    GenomicInteractions-package             html  
    GenomicInteractions                     html  
    InteractionHelpers                      html  
    InteractionTrack-class                  html  
    InteractionTrack                        html  
    annotateInteractions                    html  
    annotateRegions                         html  
    asBED-GInteractions-method              html  
    availableDisplayPars                    html  
    calculateDistances                      html  
    categoriseInteractions                  html  
    countsBetweenAnchors-methods            html  
    dot-importHicLib                        html  
    dot-importHomer                         html  
    dot-processChiapetName                  html  
    dot-readBam                             html  
    dot-readTwoBams                         html  
    dot-validateInput                       html  
    export.bed12                            html  
    export.bedpe                            html  
    export.chiasig                          html  
    export.igraph                           html  
    get_binom_ligation_threshold            html  
    get_self_ligation_threshold             html  
    getters                                 html  
    hg19.refseq.transcripts                 html  
    hic_example_data                        html  
    makeGenomicInteractionsFromFile         html  
    mm9_refseq_promoters                    html  
    plotAvgViewpoint                        html  
    plotCisTrans                            html  
    plotCounts                              html  
    plotDists                               html  
    plotInteractionAnnotations              html  
    plotSummaryStats                        html  
    plotViewpoint                           html  
    removeDups                              html  
    resetAnnotations                        html  
    sameStrand                              html  
    setters                                 html  
    sum-GInteractions-method                html  
    summariseByFeaturePairs                 html  
    summariseByFeatures                     html  
    thymus_enh                              html  
    updateObject-GenomicInteractions-method
                                            html  
    viewPoint                               html  
** building package indices
** installing vignettes
** testing if installed package can be loaded from temporary location
** testing if installed package can be loaded from final location
** testing if installed package keeps a record of temporary installation path
* DONE (GenomicInteractions)
Making 'packages.html' ...Warning in packageDescription(i, lib.loc = lib, fields = "Title", encoding = "UTF-8") :
  DESCRIPTION file of package 'scmeth' is missing or broken
 done