Back to Multiple platform build/check report for BioC 3.15
ABCDEF[G]HIJKLMNOPQRSTUVWXYZ

This page was generated on 2022-01-18 11:07:22 -0500 (Tue, 18 Jan 2022).

HostnameOSArch (*)R versionInstalled pkgs
nebbiolo1Linux (Ubuntu 20.04.4 LTS)x86_64R Under development (unstable) (2022-01-05 r81451) -- "Unsuffered Consequences" 4161
riesling1Windows Server 2019 Standardx64R Under development (unstable) (2021-11-21 r81221) -- "Unsuffered Consequences" 4056
palomino3Windows Server 2022 Datacenterx64R Under development (unstable) (2021-12-21 r81400 ucrt) -- "Unsuffered Consequences" 3998
merida1macOS 10.14.6 Mojavex86_64R Under development (unstable) (2022-01-05 r81451) -- "Unsuffered Consequences" 4115
Click on any hostname to see more info about the system (e.g. compilers)      (*) as reported by 'uname -p', except on Windows and Mac OS X

CHECK results for GenomicInteractions on riesling1


To the developers/maintainers of the GenomicInteractions package:
- Please allow up to 24 hours (and sometimes 48 hours) for your latest push to git@git.bioconductor.org:packages/GenomicInteractions.git to
reflect on this report. See How and When does the builder pull? When will my changes propagate? here for more information.
- Make sure to use the following settings in order to reproduce any error or warning you see on this page.

raw results

Package 751/2074HostnameOS / ArchINSTALLBUILDCHECKBUILD BIN
GenomicInteractions 1.29.2  (landing page)
Liz Ing-Simmons
Snapshot Date: 2022-01-17 13:55:17 -0500 (Mon, 17 Jan 2022)
git_url: https://git.bioconductor.org/packages/GenomicInteractions
git_branch: master
git_last_commit: a909e6c
git_last_commit_date: 2021-11-21 06:05:42 -0500 (Sun, 21 Nov 2021)
nebbiolo1Linux (Ubuntu 20.04.4 LTS) / x86_64  OK    OK    OK  UNNEEDED, same version is already published
riesling1Windows Server 2019 Standard / x64  OK    OK    OK    OK  
palomino3Windows Server 2022 Datacenter / x64  OK    OK    OK    OK  NO, package depends on 'InteractionSet' which is not available
merida1macOS 10.14.6 Mojave / x86_64  OK    OK    OK    OK  UNNEEDED, same version is already published

Summary

Package: GenomicInteractions
Version: 1.29.2
Command: D:\biocbuild\bbs-3.15-bioc\R\bin\R.exe CMD check --no-multiarch --install=check:GenomicInteractions.install-out.txt --library=D:\biocbuild\bbs-3.15-bioc\R\library --no-vignettes --timings GenomicInteractions_1.29.2.tar.gz
StartedAt: 2022-01-17 19:03:05 -0500 (Mon, 17 Jan 2022)
EndedAt: 2022-01-17 19:07:50 -0500 (Mon, 17 Jan 2022)
EllapsedTime: 285.1 seconds
RetCode: 0
Status:   OK  
CheckDir: GenomicInteractions.Rcheck
Warnings: 0

Command output

##############################################################################
##############################################################################
###
### Running command:
###
###   D:\biocbuild\bbs-3.15-bioc\R\bin\R.exe CMD check --no-multiarch --install=check:GenomicInteractions.install-out.txt --library=D:\biocbuild\bbs-3.15-bioc\R\library --no-vignettes --timings GenomicInteractions_1.29.2.tar.gz
###
##############################################################################
##############################################################################


* using log directory 'D:/biocbuild/bbs-3.15-bioc/meat/GenomicInteractions.Rcheck'
* using R Under development (unstable) (2021-11-21 r81221)
* using platform: x86_64-w64-mingw32 (64-bit)
* using session charset: ISO8859-1
* using option '--no-vignettes'
* checking for file 'GenomicInteractions/DESCRIPTION' ... OK
* checking extension type ... Package
* this is package 'GenomicInteractions' version '1.29.2'
* checking package namespace information ... OK
* checking package dependencies ... OK
* checking if this is a source package ... OK
* checking if there is a namespace ... OK
* checking for hidden files and directories ... OK
* checking for portable file names ... OK
* checking whether package 'GenomicInteractions' can be installed ... OK
* checking installed package size ... NOTE
  installed size is  9.5Mb
  sub-directories of 1Mb or more:
    extdata   7.9Mb
* checking package directory ... OK
* checking 'build' directory ... OK
* checking DESCRIPTION meta-information ... OK
* checking top-level files ... OK
* checking for left-over files ... OK
* checking index information ... OK
* checking package subdirectories ... OK
* checking R files for non-ASCII characters ... OK
* checking R files for syntax errors ... OK
* checking whether the package can be loaded ... OK
* checking whether the package can be loaded with stated dependencies ... OK
* checking whether the package can be unloaded cleanly ... OK
* checking whether the namespace can be loaded with stated dependencies ... OK
* checking whether the namespace can be unloaded cleanly ... OK
* checking dependencies in R code ... OK
* checking S3 generic/method consistency ... OK
* checking replacement functions ... OK
* checking foreign function calls ... OK
* checking R code for possible problems ... OK
* checking Rd files ... OK
* checking Rd metadata ... OK
* checking Rd cross-references ... OK
* checking for missing documentation entries ... OK
* checking for code/documentation mismatches ... OK
* checking Rd \usage sections ... OK
* checking Rd contents ... OK
* checking for unstated dependencies in examples ... OK
* checking contents of 'data' directory ... OK
* checking data for non-ASCII characters ... OK
* checking data for ASCII and uncompressed saves ... OK
* checking files in 'vignettes' ... OK
* checking examples ... OK
* checking for unstated dependencies in 'tests' ... OK
* checking tests ...
  Running 'testthat.R'
 OK
* checking for unstated dependencies in vignettes ... OK
* checking package vignettes in 'inst/doc' ... OK
* checking running R code from vignettes ... SKIPPED
* checking re-building of vignette outputs ... SKIPPED
* checking PDF version of manual ... OK
* DONE

Status: 1 NOTE
See
  'D:/biocbuild/bbs-3.15-bioc/meat/GenomicInteractions.Rcheck/00check.log'
for details.



Installation output

GenomicInteractions.Rcheck/00install.out

##############################################################################
##############################################################################
###
### Running command:
###
###   D:\biocbuild\bbs-3.15-bioc\R\bin\R.exe CMD INSTALL GenomicInteractions
###
##############################################################################
##############################################################################


* installing to library 'D:/biocbuild/bbs-3.15-bioc/R/library'
* installing *source* package 'GenomicInteractions' ...
** using staged installation
** R
** data
** inst
** byte-compile and prepare package for lazy loading
** help
*** installing help indices
  converting help for package 'GenomicInteractions'
    finding HTML links ... done
    GInteractions-subsetByFeatures-methods
                                            html  
    GenomicInteractions-class               html  
    GenomicInteractions-package             html  
    GenomicInteractions                     html  
    InteractionHelpers                      html  
    InteractionTrack-class                  html  
    InteractionTrack                        html  
    annotateInteractions                    html  
    annotateRegions                         html  
    asBED-GInteractions-method              html  
    availableDisplayPars                    html  
    calculateDistances                      html  
    categoriseInteractions                  html  
    countsBetweenAnchors-methods            html  
    dot-importHicLib                        html  
    dot-importHomer                         html  
    dot-processChiapetName                  html  
    dot-readBam                             html  
    dot-readTwoBams                         html  
    dot-validateInput                       html  
    export.bed12                            html  
    export.bedpe                            html  
    export.chiasig                          html  
    export.igraph                           html  
    get_binom_ligation_threshold            html  
    get_self_ligation_threshold             html  
    getters                                 html  
    hg19.refseq.transcripts                 html  
    hic_example_data                        html  
    makeGenomicInteractionsFromFile         html  
    mm9_refseq_promoters                    html  
    plotAvgViewpoint                        html  
    plotCisTrans                            html  
    plotCounts                              html  
    plotDists                               html  
    plotInteractionAnnotations              html  
    plotSummaryStats                        html  
    plotViewpoint                           html  
    removeDups                              html  
    resetAnnotations                        html  
    sameStrand                              html  
    setters                                 html  
    sum-GInteractions-method                html  
    summariseByFeaturePairs                 html  
    summariseByFeatures                     html  
    thymus_enh                              html  
    updateObject-GenomicInteractions-method
                                            html  
    viewPoint                               html  
** building package indices
** installing vignettes
** testing if installed package can be loaded from temporary location
** testing if installed package can be loaded from final location
** testing if installed package keeps a record of temporary installation path
* DONE (GenomicInteractions)
Making 'packages.html' ... done

Tests output

GenomicInteractions.Rcheck/tests/testthat.Rout


R Under development (unstable) (2021-11-21 r81221) -- "Unsuffered Consequences"
Copyright (C) 2021 The R Foundation for Statistical Computing
Platform: x86_64-w64-mingw32/x64 (64-bit)

R is free software and comes with ABSOLUTELY NO WARRANTY.
You are welcome to redistribute it under certain conditions.
Type 'license()' or 'licence()' for distribution details.

R is a collaborative project with many contributors.
Type 'contributors()' for more information and
'citation()' on how to cite R or R packages in publications.

Type 'demo()' for some demos, 'help()' for on-line help, or
'help.start()' for an HTML browser interface to help.
Type 'q()' to quit R.

> library(testthat)
> library(GenomicInteractions)
Loading required package: InteractionSet
Loading required package: GenomicRanges
Loading required package: stats4
Loading required package: BiocGenerics

Attaching package: 'BiocGenerics'

The following objects are masked from 'package:stats':

    IQR, mad, sd, var, xtabs

The following objects are masked from 'package:base':

    Filter, Find, Map, Position, Reduce, anyDuplicated, append,
    as.data.frame, basename, cbind, colnames, dirname, do.call,
    duplicated, eval, evalq, get, grep, grepl, intersect, is.unsorted,
    lapply, mapply, match, mget, order, paste, pmax, pmax.int, pmin,
    pmin.int, rank, rbind, rownames, sapply, setdiff, sort, table,
    tapply, union, unique, unsplit, which.max, which.min

Loading required package: S4Vectors

Attaching package: 'S4Vectors'

The following objects are masked from 'package:base':

    I, expand.grid, unname

Loading required package: IRanges

Attaching package: 'IRanges'

The following object is masked from 'package:grDevices':

    windows

Loading required package: GenomeInfoDb
Loading required package: SummarizedExperiment
Loading required package: MatrixGenerics
Loading required package: matrixStats

Attaching package: 'MatrixGenerics'

The following objects are masked from 'package:matrixStats':

    colAlls, colAnyNAs, colAnys, colAvgsPerRowSet, colCollapse,
    colCounts, colCummaxs, colCummins, colCumprods, colCumsums,
    colDiffs, colIQRDiffs, colIQRs, colLogSumExps, colMadDiffs,
    colMads, colMaxs, colMeans2, colMedians, colMins, colOrderStats,
    colProds, colQuantiles, colRanges, colRanks, colSdDiffs, colSds,
    colSums2, colTabulates, colVarDiffs, colVars, colWeightedMads,
    colWeightedMeans, colWeightedMedians, colWeightedSds,
    colWeightedVars, rowAlls, rowAnyNAs, rowAnys, rowAvgsPerColSet,
    rowCollapse, rowCounts, rowCummaxs, rowCummins, rowCumprods,
    rowCumsums, rowDiffs, rowIQRDiffs, rowIQRs, rowLogSumExps,
    rowMadDiffs, rowMads, rowMaxs, rowMeans2, rowMedians, rowMins,
    rowOrderStats, rowProds, rowQuantiles, rowRanges, rowRanks,
    rowSdDiffs, rowSds, rowSums2, rowTabulates, rowVarDiffs, rowVars,
    rowWeightedMads, rowWeightedMeans, rowWeightedMedians,
    rowWeightedSds, rowWeightedVars

Loading required package: Biobase
Welcome to Bioconductor

    Vignettes contain introductory material; view with
    'browseVignettes()'. To cite Bioconductor, see
    'citation("Biobase")', and for packages 'citation("pkgname")'.


Attaching package: 'Biobase'

The following object is masked from 'package:MatrixGenerics':

    rowMedians

The following objects are masked from 'package:matrixStats':

    anyMissing, rowMedians

> 
> test_check("GenomicInteractions")
[ FAIL 0 | WARN 3 | SKIP 0 | PASS 51 ]
> 
> proc.time()
   user  system elapsed 
  19.45    1.23   20.71 

Example timings

GenomicInteractions.Rcheck/GenomicInteractions-Ex.timings

nameusersystemelapsed
GInteractions-subsetByFeatures-methods0.150.030.19
GenomicInteractions-class0.190.000.19
GenomicInteractions0.080.000.08
InteractionHelpers0.050.020.07
InteractionTrack0.640.110.75
annotateInteractions0.310.030.34
annotateRegions0.190.000.19
asBED-GInteractions-method0.310.010.33
availableDisplayPars0.020.000.01
calculateDistances0.060.000.06
categoriseInteractions0.240.020.25
export.bed121.470.001.47
export.bedpe0.150.010.17
export.chiasig0.170.020.19
export.igraph0.110.010.13
getters0.070.000.06
makeGenomicInteractionsFromFile0.510.070.58
plotAvgViewpoint0.160.010.17
plotCisTrans0.250.000.25
plotCounts0.330.020.34
plotDists0.100.000.11
plotInteractionAnnotations0.180.010.19
plotSummaryStats0.450.050.50
plotViewpoint0.420.060.50
resetAnnotations0.030.000.03
setters0.080.000.08
summariseByFeaturePairs0.890.020.90
summariseByFeatures0.330.010.35
viewPoint0.200.020.21