Back to Multiple platform build/check report for BioC 3.15
ABCDEF[G]HIJKLMNOPQRSTUVWXYZ

This page was generated on 2022-01-20 11:07:22 -0500 (Thu, 20 Jan 2022).

HostnameOSArch (*)R versionInstalled pkgs
nebbiolo1Linux (Ubuntu 20.04.4 LTS)x86_64R Under development (unstable) (2022-01-05 r81451) -- "Unsuffered Consequences" 4162
riesling1Windows Server 2019 Standardx64R Under development (unstable) (2021-11-21 r81221) -- "Unsuffered Consequences" 4057
palomino3Windows Server 2022 Datacenterx64R Under development (unstable) (2021-12-21 r81400 ucrt) -- "Unsuffered Consequences" 3999
merida1macOS 10.14.6 Mojavex86_64R Under development (unstable) (2022-01-05 r81451) -- "Unsuffered Consequences" 4116
Click on any hostname to see more info about the system (e.g. compilers)      (*) as reported by 'uname -p', except on Windows and Mac OS X

BUILD BIN results for GenomicFiles on riesling1


To the developers/maintainers of the GenomicFiles package:
- Please allow up to 24 hours (and sometimes 48 hours) for your latest push to git@git.bioconductor.org:packages/GenomicFiles.git to
reflect on this report. See How and When does the builder pull? When will my changes propagate? here for more information.
- Make sure to use the following settings in order to reproduce any error or warning you see on this page.

raw results

Package 749/2074HostnameOS / ArchINSTALLBUILDCHECKBUILD BIN
GenomicFiles 1.31.0  (landing page)
Bioconductor Package Maintainer
Snapshot Date: 2022-01-19 13:55:26 -0500 (Wed, 19 Jan 2022)
git_url: https://git.bioconductor.org/packages/GenomicFiles
git_branch: master
git_last_commit: bf1d058
git_last_commit_date: 2021-10-26 12:13:21 -0500 (Tue, 26 Oct 2021)
nebbiolo1Linux (Ubuntu 20.04.4 LTS) / x86_64  OK    OK    OK  UNNEEDED, same version is already published
riesling1Windows Server 2019 Standard / x64  OK    OK    OK    OK  
palomino3Windows Server 2022 Datacenter / x64  OK    OK    OK    OK  NO, package depends on 'BiocGenerics' which is not available
merida1macOS 10.14.6 Mojave / x86_64  OK    OK    OK    OK  UNNEEDED, same version is already published

Summary

Package: GenomicFiles
Version: 1.31.0
Command: rm -rf GenomicFiles.buildbin-libdir && mkdir GenomicFiles.buildbin-libdir && D:\biocbuild\bbs-3.15-bioc\R\bin\R.exe CMD INSTALL --build --library=GenomicFiles.buildbin-libdir GenomicFiles_1.31.0.tar.gz
StartedAt: 2022-01-19 20:57:07 -0500 (Wed, 19 Jan 2022)
EndedAt: 2022-01-19 20:58:33 -0500 (Wed, 19 Jan 2022)
EllapsedTime: 85.8 seconds
RetCode: 0
Status:   OK  
PackageFile: GenomicFiles_1.31.0.zip
PackageFileSize: 1.026 MiB

Command output

##############################################################################
##############################################################################
###
### Running command:
###
###   rm -rf GenomicFiles.buildbin-libdir && mkdir GenomicFiles.buildbin-libdir && D:\biocbuild\bbs-3.15-bioc\R\bin\R.exe CMD INSTALL --build --library=GenomicFiles.buildbin-libdir GenomicFiles_1.31.0.tar.gz
###
##############################################################################
##############################################################################


* installing *source* package 'GenomicFiles' ...
** using staged installation
** R
** inst
** byte-compile and prepare package for lazy loading
** help
*** installing help indices
  converting help for package 'GenomicFiles'
    finding HTML links ... done
    GenomicFiles-class                      html  
REDIRECT:topic	 Previous alias or file overwritten by alias: D:/biocbuild/bbs-3.15-bioc/meat/GenomicFiles.buildbin-libdir/00LOCK-GenomicFiles/00new/GenomicFiles/help/GenomicFiles+2CGenomicRanges_OR_GRangesList+2Clist-method.html
    GenomicFiles-deprecated                 html  
    VcfStack-class                          html  
    pack-methods                            html  
    reduceByFile-methods                    html  
    reduceByRange-methods                   html  
    reduceByYield                           html  
    registry-utils                          html  
    unpack-methods                          html  
REDIRECT:topic	 Previous alias or file overwritten by alias: D:/biocbuild/bbs-3.15-bioc/meat/GenomicFiles.buildbin-libdir/00LOCK-GenomicFiles/00new/GenomicFiles/help/unpack+2CList+2CGRangesList-method.html
** building package indices
** installing vignettes
** testing if installed package can be loaded from temporary location
** testing if installed package can be loaded from final location
** testing if installed package keeps a record of temporary installation path
* MD5 sums
packaged installation of 'GenomicFiles' as GenomicFiles_1.31.0.zip
* DONE (GenomicFiles)