Back to Multiple platform build/check report for BioC 3.15
ABCDEF[G]HIJKLMNOPQRSTUVWXYZ

This page was generated on 2022-01-17 11:07:24 -0500 (Mon, 17 Jan 2022).

HostnameOSArch (*)R versionInstalled pkgs
nebbiolo1Linux (Ubuntu 20.04.4 LTS)x86_64R Under development (unstable) (2022-01-05 r81451) -- "Unsuffered Consequences" 4161
riesling1Windows Server 2019 Standardx64R Under development (unstable) (2021-11-21 r81221) -- "Unsuffered Consequences" 4056
palomino3Windows Server 2022 Datacenterx64R Under development (unstable) (2021-12-21 r81400 ucrt) -- "Unsuffered Consequences" 3998
merida1macOS 10.14.6 Mojavex86_64R Under development (unstable) (2022-01-05 r81451) -- "Unsuffered Consequences" 4115
Click on any hostname to see more info about the system (e.g. compilers)      (*) as reported by 'uname -p', except on Windows and Mac OS X

BUILD BIN results for GenomicDistributions on riesling1


To the developers/maintainers of the GenomicDistributions package:
- Please allow up to 24 hours (and sometimes 48 hours) for your latest push to git@git.bioconductor.org:packages/GenomicDistributions.git to
reflect on this report. See How and When does the builder pull? When will my changes propagate? here for more information.
- Make sure to use the following settings in order to reproduce any error or warning you see on this page.

raw results

Package 747/2074HostnameOS / ArchINSTALLBUILDCHECKBUILD BIN
GenomicDistributions 1.3.1  (landing page)
Kristyna Kupkova
Snapshot Date: 2022-01-16 13:55:18 -0500 (Sun, 16 Jan 2022)
git_url: https://git.bioconductor.org/packages/GenomicDistributions
git_branch: master
git_last_commit: bebda48
git_last_commit_date: 2021-11-20 04:03:57 -0500 (Sat, 20 Nov 2021)
nebbiolo1Linux (Ubuntu 20.04.4 LTS) / x86_64  OK    OK    OK  UNNEEDED, same version is already published
riesling1Windows Server 2019 Standard / x64  OK    OK    OK    OK  
palomino3Windows Server 2022 Datacenter / x64  OK    OK    OK    OK  NO, package depends on 'IRanges' which is not available
merida1macOS 10.14.6 Mojave / x86_64  OK    OK    OK    OK  UNNEEDED, same version is already published

Summary

Package: GenomicDistributions
Version: 1.3.1
Command: rm -rf GenomicDistributions.buildbin-libdir && mkdir GenomicDistributions.buildbin-libdir && D:\biocbuild\bbs-3.15-bioc\R\bin\R.exe CMD INSTALL --build --library=GenomicDistributions.buildbin-libdir GenomicDistributions_1.3.1.tar.gz
StartedAt: 2022-01-16 21:00:52 -0500 (Sun, 16 Jan 2022)
EndedAt: 2022-01-16 21:02:13 -0500 (Sun, 16 Jan 2022)
EllapsedTime: 81.6 seconds
RetCode: 0
Status:   OK  
PackageFile: GenomicDistributions_1.3.1.zip
PackageFileSize: 4.851 MiB

Command output

##############################################################################
##############################################################################
###
### Running command:
###
###   rm -rf GenomicDistributions.buildbin-libdir && mkdir GenomicDistributions.buildbin-libdir && D:\biocbuild\bbs-3.15-bioc\R\bin\R.exe CMD INSTALL --build --library=GenomicDistributions.buildbin-libdir GenomicDistributions_1.3.1.tar.gz
###
##############################################################################
##############################################################################


* installing *source* package 'GenomicDistributions' ...
** using staged installation
** R
** data
*** moving datasets to lazyload DB
** inst
** byte-compile and prepare package for lazy loading
** help
*** installing help indices
  converting help for package 'GenomicDistributions'
    finding HTML links ... done
    BSdtToGRanges                           html  
    GenomicDistributions                    html  
    TSS_hg19                                html  
    binBSGenome                             html  
    binChroms                               html  
    binRegion                               html  
    calcChromBins                           html  
    calcChromBinsRef                        html  
    calcCumulativePartitions                html  
    calcCumulativePartitionsRef             html  
    calcDinuclFreq                          html  
    calcDinuclFreqRef                       html  
    calcExpectedPartitions                  html  
    calcExpectedPartitionsRef               html  
    calcFeatureDist                         html  
    calcFeatureDistRefTSS                   html  
    calcGCContent                           html  
    calcGCContentRef                        html  
    calcNeighborDist                        html  
    calcOpenSignal                          html  
    calcPartitions                          html  
    calcPartitionsRef                       html  
    calcWidth                               html  
    cellTypeMetadata                        html  
    chromSizes_hg19                         html  
    dot-requireAndReturn                    html  
    dot-validateInputs                      html  
    dtToGr                                  html  
    dtToGrInternal                          html  
    exampleOpenSignalMatrix_hg19            html  
    geneModels_hg19                         html  
    genomePartitionList                     html  
    getChromSizes                           html  
    getChromSizesFromFasta                  html  
    getGeneModels                           html  
    getGeneModelsFromGTF                    html  
    getGenomeBins                           html  
    getReferenceData                        html  
    getTssFromGTF                           html  
    grToDt                                  html  
    labelCuts                               html  
    loadBSgenome                            html  
    loadEnsDb                               html  
    neighbordt                              html  
    nlist                                   html  
    plotChromBins                           html  
    plotCumulativePartitions                html  
    plotDinuclFreq                          html  
    plotExpectedPartitions                  html  
    plotFeatureDist                         html  
    plotGCContent                           html  
    plotNeighborDist                        html  
    plotOpenSignal                          html  
    plotPartitions                          html  
    plotQTHist                              html  
    retrieveFile                            html  
    setB_100                                html  
    splitDataTable                          html  
    theme_blank_facet_label                 html  
    vistaEnhancers                          html  
** building package indices
** installing vignettes
** testing if installed package can be loaded from temporary location
** testing if installed package can be loaded from final location
** testing if installed package keeps a record of temporary installation path
* MD5 sums
packaged installation of 'GenomicDistributions' as GenomicDistributions_1.3.1.zip
* DONE (GenomicDistributions)