Back to Multiple platform build/check report for BioC 3.15
ABCDEF[G]HIJKLMNOPQRSTUVWXYZ

This page was generated on 2022-01-25 11:07:19 -0500 (Tue, 25 Jan 2022).

HostnameOSArch (*)R versionInstalled pkgs
nebbiolo1Linux (Ubuntu 20.04.4 LTS)x86_64R Under development (unstable) (2022-01-05 r81451) -- "Unsuffered Consequences" 4164
riesling1Windows Server 2019 Standardx64R Under development (unstable) (2021-11-21 r81221) -- "Unsuffered Consequences" 4059
palomino3Windows Server 2022 Datacenterx64R Under development (unstable) (2021-12-21 r81400 ucrt) -- "Unsuffered Consequences" 4001
merida1macOS 10.14.6 Mojavex86_64R Under development (unstable) (2022-01-05 r81451) -- "Unsuffered Consequences" 4118
Click on any hostname to see more info about the system (e.g. compilers)      (*) as reported by 'uname -p', except on Windows and Mac OS X

INSTALL results for GenomicDataCommons on riesling1


To the developers/maintainers of the GenomicDataCommons package:
- Please allow up to 24 hours (and sometimes 48 hours) for your latest push to git@git.bioconductor.org:packages/GenomicDataCommons.git to
reflect on this report. See How and When does the builder pull? When will my changes propagate? here for more information.
- Make sure to use the following settings in order to reproduce any error or warning you see on this page.

raw results

Package 746/2075HostnameOS / ArchINSTALLBUILDCHECKBUILD BIN
GenomicDataCommons 1.19.2  (landing page)
Sean Davis
Snapshot Date: 2022-01-24 13:55:18 -0500 (Mon, 24 Jan 2022)
git_url: https://git.bioconductor.org/packages/GenomicDataCommons
git_branch: master
git_last_commit: 06114f6
git_last_commit_date: 2022-01-10 11:13:44 -0500 (Mon, 10 Jan 2022)
nebbiolo1Linux (Ubuntu 20.04.4 LTS) / x86_64  OK    OK    WARNINGS  UNNEEDED, same version is already published
riesling1Windows Server 2019 Standard / x64  OK    OK    WARNINGS    OK  
palomino3Windows Server 2022 Datacenter / x64  OK    OK    WARNINGS    OK  NO, package depends on 'GenomicRanges' which is not available
merida1macOS 10.14.6 Mojave / x86_64  OK    OK    WARNINGS    OK  UNNEEDED, same version is already published

Summary

Package: GenomicDataCommons
Version: 1.19.2
Command: D:\biocbuild\bbs-3.15-bioc\R\bin\R.exe CMD INSTALL GenomicDataCommons
StartedAt: 2022-01-24 15:54:13 -0500 (Mon, 24 Jan 2022)
EndedAt: 2022-01-24 15:55:21 -0500 (Mon, 24 Jan 2022)
EllapsedTime: 68.2 seconds
RetCode: 0
Status:   OK  

Command output

##############################################################################
##############################################################################
###
### Running command:
###
###   D:\biocbuild\bbs-3.15-bioc\R\bin\R.exe CMD INSTALL GenomicDataCommons
###
##############################################################################
##############################################################################


* installing to library 'D:/biocbuild/bbs-3.15-bioc/R/library'
* installing *source* package 'GenomicDataCommons' ...
** using staged installation
** R
** inst
** byte-compile and prepare package for lazy loading
** help
*** installing help indices
  converting help for package 'GenomicDataCommons'
    finding HTML links ... done
    GenomicDataCommons                      html  
    aggregations                            html  
    available_expand                        html  
    available_fields                        html  
    available_values                        html  
    constants                               html  
    count                                   html  
    default_fields                          html  
    entity_name                             html  
    expand                                  html  
    faceting                                html  
    field_description                       html  
    filtering                               html  
    gdc_cache                               html  
    gdc_client                              html  
    gdc_clinical                            html  
    gdc_token                               html  
    gdcdata                                 html  
    grep_fields                             html  
    id_field                                html  
    ids                                     html  
    make_filter                             html  
    manifest                                html  
    mapping                                 html  
    query                                   html  
    readDNAcopy                             html  
    readHTSeqFile                           html  
    response                                html  
    results                                 html  
    results_all                             html  
    select                                  html  
    slicing                                 html  
    status                                  html  
    transfer                                html  
    write_manifest                          html  
** building package indices
** installing vignettes
** testing if installed package can be loaded from temporary location
** testing if installed package can be loaded from final location
** testing if installed package keeps a record of temporary installation path
* DONE (GenomicDataCommons)
Making 'packages.html' ... done