Back to Multiple platform build/check report for BioC 3.17:   simplified   long
ABCDEF[G]HIJKLMNOPQRSTUVWXYZ

This page was generated on 2023-02-04 11:04:53 -0500 (Sat, 04 Feb 2023).

HostnameOSArch (*)R versionInstalled pkgs
nebbiolo1Linux (Ubuntu 22.04.1 LTS)x86_64R Under development (unstable) (2023-01-10 r83596) -- "Unsuffered Consequences" 4483
palomino3Windows Server 2022 Datacenterx64R Under development (unstable) (2023-01-10 r83596 ucrt) -- "Unsuffered Consequences" 4249
merida1macOS 10.14.6 Mojavex86_64R Under development (unstable) (2023-01-10 r83596) -- "Unsuffered Consequences" 4272
Click on any hostname to see more info about the system (e.g. compilers)      (*) as reported by 'uname -p', except on Windows and Mac OS X

BUILD results for GenomicDataCommons on nebbiolo1


To the developers/maintainers of the GenomicDataCommons package:
- Please allow up to 24 hours (and sometimes 48 hours) for your latest push to git@git.bioconductor.org:packages/GenomicDataCommons.git to
reflect on this report. See How and When does the builder pull? When will my changes propagate? for more information.
- Make sure to use the following settings in order to reproduce any error or warning you see on this page.

raw results

Package 772/2164HostnameOS / ArchINSTALLBUILDCHECKBUILD BIN
GenomicDataCommons 1.23.2  (landing page)
Sean Davis
Snapshot Date: 2023-02-03 14:00:22 -0500 (Fri, 03 Feb 2023)
git_url: https://git.bioconductor.org/packages/GenomicDataCommons
git_branch: master
git_last_commit: e0e9824
git_last_commit_date: 2023-01-30 12:51:38 -0500 (Mon, 30 Jan 2023)
nebbiolo1Linux (Ubuntu 22.04.1 LTS) / x86_64  OK    OK    OK  UNNEEDED, same version is already published
palomino3Windows Server 2022 Datacenter / x64  OK    OK    OK    NA  
merida1macOS 10.14.6 Mojave / x86_64  OK    OK    OK    OK  UNNEEDED, same version is already published

Summary

Package: GenomicDataCommons
Version: 1.23.2
Command: /home/biocbuild/bbs-3.17-bioc/R/bin/R CMD build --keep-empty-dirs --no-resave-data GenomicDataCommons
StartedAt: 2023-02-03 16:40:12 -0500 (Fri, 03 Feb 2023)
EndedAt: 2023-02-03 16:41:11 -0500 (Fri, 03 Feb 2023)
EllapsedTime: 58.1 seconds
RetCode: 0
Status:   OK  
PackageFile: GenomicDataCommons_1.23.2.tar.gz
PackageFileSize: 2.274 MiB

Command output

##############################################################################
##############################################################################
###
### Running command:
###
###   /home/biocbuild/bbs-3.17-bioc/R/bin/R CMD build --keep-empty-dirs --no-resave-data GenomicDataCommons
###
##############################################################################
##############################################################################


* checking for file ‘GenomicDataCommons/DESCRIPTION’ ... OK
* preparing ‘GenomicDataCommons’:
* checking DESCRIPTION meta-information ... OK
* installing the package to build vignettes
* creating vignettes ... OK
* checking for LF line-endings in source and make files and shell scripts
* checking for empty or unneeded directories
* looking to see if a ‘data/datalist’ file should be added
* building ‘GenomicDataCommons_1.23.2.tar.gz’