Back to Multiple platform build/check report for BioC 3.15
ABCDEF[G]HIJKLMNOPQRSTUVWXYZ

This page was generated on 2022-01-18 11:07:22 -0500 (Tue, 18 Jan 2022).

HostnameOSArch (*)R versionInstalled pkgs
nebbiolo1Linux (Ubuntu 20.04.4 LTS)x86_64R Under development (unstable) (2022-01-05 r81451) -- "Unsuffered Consequences" 4161
riesling1Windows Server 2019 Standardx64R Under development (unstable) (2021-11-21 r81221) -- "Unsuffered Consequences" 4056
palomino3Windows Server 2022 Datacenterx64R Under development (unstable) (2021-12-21 r81400 ucrt) -- "Unsuffered Consequences" 3998
merida1macOS 10.14.6 Mojavex86_64R Under development (unstable) (2022-01-05 r81451) -- "Unsuffered Consequences" 4115
Click on any hostname to see more info about the system (e.g. compilers)      (*) as reported by 'uname -p', except on Windows and Mac OS X

INSTALL results for GenomicAlignments on riesling1


To the developers/maintainers of the GenomicAlignments package:
- Please allow up to 24 hours (and sometimes 48 hours) for your latest push to git@git.bioconductor.org:packages/GenomicAlignments.git to
reflect on this report. See How and When does the builder pull? When will my changes propagate? here for more information.
- Make sure to use the following settings in order to reproduce any error or warning you see on this page.

raw results

Package 745/2074HostnameOS / ArchINSTALLBUILDCHECKBUILD BIN
GenomicAlignments 1.31.2  (landing page)
Bioconductor Package Maintainer
Snapshot Date: 2022-01-17 13:55:17 -0500 (Mon, 17 Jan 2022)
git_url: https://git.bioconductor.org/packages/GenomicAlignments
git_branch: master
git_last_commit: 6043a0a
git_last_commit_date: 2021-11-03 18:06:15 -0500 (Wed, 03 Nov 2021)
nebbiolo1Linux (Ubuntu 20.04.4 LTS) / x86_64  OK    OK    OK  UNNEEDED, same version is already published
riesling1Windows Server 2019 Standard / x64  OK    OK    OK    OK  
palomino3Windows Server 2022 Datacenter / x64  OK    OK    OK    OK  NO, package depends on 'BiocGenerics' which is not available
merida1macOS 10.14.6 Mojave / x86_64  OK    OK    OK    OK  UNNEEDED, same version is already published

Summary

Package: GenomicAlignments
Version: 1.31.2
Command: D:\biocbuild\bbs-3.15-bioc\R\bin\R.exe CMD INSTALL GenomicAlignments
StartedAt: 2022-01-17 15:50:53 -0500 (Mon, 17 Jan 2022)
EndedAt: 2022-01-17 15:51:45 -0500 (Mon, 17 Jan 2022)
EllapsedTime: 51.1 seconds
RetCode: 0
Status:   OK  

Command output

##############################################################################
##############################################################################
###
### Running command:
###
###   D:\biocbuild\bbs-3.15-bioc\R\bin\R.exe CMD INSTALL GenomicAlignments
###
##############################################################################
##############################################################################


* installing to library 'D:/biocbuild/bbs-3.15-bioc/R/library'
* installing *source* package 'GenomicAlignments' ...
** using staged installation
** libs
"C:/rtools40/mingw64/bin/"gcc  -I"D:/biocbuild/bbs-3.15-bioc/R/include" -DNDEBUG  -I'D:/biocbuild/bbs-3.15-bioc/R/library/S4Vectors/include' -I'D:/biocbuild/bbs-3.15-bioc/R/library/IRanges/include'   -I"C:/extsoft/include"     -O2 -Wall  -std=gnu99 -mfpmath=sse -msse2 -mstackrealign -fno-reorder-blocks-and-partition  -c IRanges_stubs.c -o IRanges_stubs.o
"C:/rtools40/mingw64/bin/"gcc  -I"D:/biocbuild/bbs-3.15-bioc/R/include" -DNDEBUG  -I'D:/biocbuild/bbs-3.15-bioc/R/library/S4Vectors/include' -I'D:/biocbuild/bbs-3.15-bioc/R/library/IRanges/include'   -I"C:/extsoft/include"     -O2 -Wall  -std=gnu99 -mfpmath=sse -msse2 -mstackrealign -fno-reorder-blocks-and-partition  -c R_init_GenomicAlignments.c -o R_init_GenomicAlignments.o
"C:/rtools40/mingw64/bin/"gcc  -I"D:/biocbuild/bbs-3.15-bioc/R/include" -DNDEBUG  -I'D:/biocbuild/bbs-3.15-bioc/R/library/S4Vectors/include' -I'D:/biocbuild/bbs-3.15-bioc/R/library/IRanges/include'   -I"C:/extsoft/include"     -O2 -Wall  -std=gnu99 -mfpmath=sse -msse2 -mstackrealign -fno-reorder-blocks-and-partition  -c S4Vectors_stubs.c -o S4Vectors_stubs.o
"C:/rtools40/mingw64/bin/"gcc  -I"D:/biocbuild/bbs-3.15-bioc/R/include" -DNDEBUG  -I'D:/biocbuild/bbs-3.15-bioc/R/library/S4Vectors/include' -I'D:/biocbuild/bbs-3.15-bioc/R/library/IRanges/include'   -I"C:/extsoft/include"     -O2 -Wall  -std=gnu99 -mfpmath=sse -msse2 -mstackrealign -fno-reorder-blocks-and-partition  -c cigar_utils.c -o cigar_utils.o
cigar_utils.c: In function 'cigar_ranges':
cigar_utils.c:676:9: warning: 'f_elt' may be used uninitialized in this function [-Wmaybe-uninitialized]
    f_elt++;
    ~~~~~^~
cigar_utils.c:674:22: warning: 'range_buf1' may be used uninitialized in this function [-Wmaybe-uninitialized]
    *(breakpoint++) = IntPairAE_get_nelt(range_buf1);
                      ^~~~~~~~~~~~~~~~~~~~~~~~~~~~~~
cigar_utils.c:674:16: warning: 'breakpoint' may be used uninitialized in this function [-Wmaybe-uninitialized]
    *(breakpoint++) = IntPairAE_get_nelt(range_buf1);
     ~~~~~~~~~~~^~~
cigar_utils.c:626:8: warning: 'flag_elt' may be used uninitialized in this function [-Wmaybe-uninitialized]
    if (*flag_elt == NA_INTEGER) {
        ^~~~~~~~~
cigar_utils.c: In function 'cigar_width':
cigar_utils.c:708:8: warning: 'flag_elt' may be used uninitialized in this function [-Wmaybe-uninitialized]
    if (*flag_elt == NA_INTEGER) {
        ^~~~~~~~~
"C:/rtools40/mingw64/bin/"gcc  -I"D:/biocbuild/bbs-3.15-bioc/R/include" -DNDEBUG  -I'D:/biocbuild/bbs-3.15-bioc/R/library/S4Vectors/include' -I'D:/biocbuild/bbs-3.15-bioc/R/library/IRanges/include'   -I"C:/extsoft/include"     -O2 -Wall  -std=gnu99 -mfpmath=sse -msse2 -mstackrealign -fno-reorder-blocks-and-partition  -c coordinate_mapping_methods.c -o coordinate_mapping_methods.o
"C:/rtools40/mingw64/bin/"gcc  -I"D:/biocbuild/bbs-3.15-bioc/R/include" -DNDEBUG  -I'D:/biocbuild/bbs-3.15-bioc/R/library/S4Vectors/include' -I'D:/biocbuild/bbs-3.15-bioc/R/library/IRanges/include'   -I"C:/extsoft/include"     -O2 -Wall  -std=gnu99 -mfpmath=sse -msse2 -mstackrealign -fno-reorder-blocks-and-partition  -c encodeOverlaps_methods.c -o encodeOverlaps_methods.o
encodeOverlaps_methods.c: In function 'overlap_encoding':
encodeOverlaps_methods.c:180:33: warning: 'out_nelt0' may be used uninitialized in this function [-Wmaybe-uninitialized]
  CharAE_set_nelt(out, out_nelt0 + j2 * nrow);
                       ~~~~~~~~~~^~~~~~~~~~~
encodeOverlaps_methods.c:99:6: note: 'out_nelt0' was declared here
  int out_nelt0, i, starti, widthi, spacei, j, startj, widthj, spacej,
      ^~~~~~~~~
C:/rtools40/mingw64/bin/gcc -shared -s -static-libgcc -o GenomicAlignments.dll tmp.def IRanges_stubs.o R_init_GenomicAlignments.o S4Vectors_stubs.o cigar_utils.o coordinate_mapping_methods.o encodeOverlaps_methods.o -LC:/extsoft/lib/x64 -LC:/extsoft/lib -LD:/biocbuild/bbs-3.15-bioc/R/bin/x64 -lR
installing to D:/biocbuild/bbs-3.15-bioc/R/library/00LOCK-GenomicAlignments/00new/GenomicAlignments/libs/x64
** R
** inst
** byte-compile and prepare package for lazy loading
** help
*** installing help indices
  converting help for package 'GenomicAlignments'
    finding HTML links ... done
    GAlignmentPairs-class                   html  
    finding level-2 HTML links ... done

    GAlignments-class                       html  
    GAlignmentsList-class                   html  
    GappedReads-class                       html  
    OverlapEncodings-class                  html  
    cigar-utils                             html  
    coordinate-mapping-methods              html  
    coverage-methods                        html  
    encodeOverlaps-methods                  html  
    findCompatibleOverlaps-methods          html  
    findMateAlignment                       html  
    findOverlaps-methods                    html  
    findSpliceOverlaps-methods              html  
    intra-range-methods                     html  
    junctions-methods                       html  
    pileLettersAt                           html  
    readGAlignments                         html  
    sequenceLayer                           html  
    setops-methods                          html  
    stackStringsFromGAlignments             html  
    summarizeOverlaps-methods               html  
** building package indices
** installing vignettes
** testing if installed package can be loaded from temporary location
** testing if installed package can be loaded from final location
** testing if installed package keeps a record of temporary installation path
* DONE (GenomicAlignments)
Making 'packages.html' ...Warning in packageDescription(i, lib.loc = lib, fields = "Title", encoding = "UTF-8") :
  DESCRIPTION file of package 'cosmiq' is missing or broken
 done