Back to Multiple platform build/check report for BioC 3.15
ABCDEF[G]HIJKLMNOPQRSTUVWXYZ

This page was generated on 2022-01-21 11:07:36 -0500 (Fri, 21 Jan 2022).

HostnameOSArch (*)R versionInstalled pkgs
nebbiolo1Linux (Ubuntu 20.04.4 LTS)x86_64R Under development (unstable) (2022-01-05 r81451) -- "Unsuffered Consequences" 4163
riesling1Windows Server 2019 Standardx64R Under development (unstable) (2021-11-21 r81221) -- "Unsuffered Consequences" 4058
palomino3Windows Server 2022 Datacenterx64R Under development (unstable) (2021-12-21 r81400 ucrt) -- "Unsuffered Consequences" 4000
merida1macOS 10.14.6 Mojavex86_64R Under development (unstable) (2022-01-05 r81451) -- "Unsuffered Consequences" 4117
Click on any hostname to see more info about the system (e.g. compilers)      (*) as reported by 'uname -p', except on Windows and Mac OS X

CHECK results for GenomicAlignments on riesling1


To the developers/maintainers of the GenomicAlignments package:
- Please allow up to 24 hours (and sometimes 48 hours) for your latest push to git@git.bioconductor.org:packages/GenomicAlignments.git to
reflect on this report. See How and When does the builder pull? When will my changes propagate? here for more information.
- Make sure to use the following settings in order to reproduce any error or warning you see on this page.

raw results

Package 745/2075HostnameOS / ArchINSTALLBUILDCHECKBUILD BIN
GenomicAlignments 1.31.2  (landing page)
Bioconductor Package Maintainer
Snapshot Date: 2022-01-20 13:55:17 -0500 (Thu, 20 Jan 2022)
git_url: https://git.bioconductor.org/packages/GenomicAlignments
git_branch: master
git_last_commit: 6043a0a
git_last_commit_date: 2021-11-03 18:06:15 -0500 (Wed, 03 Nov 2021)
nebbiolo1Linux (Ubuntu 20.04.4 LTS) / x86_64  OK    OK    OK  UNNEEDED, same version is already published
riesling1Windows Server 2019 Standard / x64  OK    OK    OK    OK  
palomino3Windows Server 2022 Datacenter / x64  OK    OK    OK    OK  NO, package depends on 'BiocGenerics' which is not available
merida1macOS 10.14.6 Mojave / x86_64  OK    OK    OK    OK  UNNEEDED, same version is already published

Summary

Package: GenomicAlignments
Version: 1.31.2
Command: D:\biocbuild\bbs-3.15-bioc\R\bin\R.exe CMD check --no-multiarch --install=check:GenomicAlignments.install-out.txt --library=D:\biocbuild\bbs-3.15-bioc\R\library --no-vignettes --timings GenomicAlignments_1.31.2.tar.gz
StartedAt: 2022-01-20 18:58:08 -0500 (Thu, 20 Jan 2022)
EndedAt: 2022-01-20 19:03:12 -0500 (Thu, 20 Jan 2022)
EllapsedTime: 304.0 seconds
RetCode: 0
Status:   OK  
CheckDir: GenomicAlignments.Rcheck
Warnings: 0

Command output

##############################################################################
##############################################################################
###
### Running command:
###
###   D:\biocbuild\bbs-3.15-bioc\R\bin\R.exe CMD check --no-multiarch --install=check:GenomicAlignments.install-out.txt --library=D:\biocbuild\bbs-3.15-bioc\R\library --no-vignettes --timings GenomicAlignments_1.31.2.tar.gz
###
##############################################################################
##############################################################################


* using log directory 'D:/biocbuild/bbs-3.15-bioc/meat/GenomicAlignments.Rcheck'
* using R Under development (unstable) (2021-11-21 r81221)
* using platform: x86_64-w64-mingw32 (64-bit)
* using session charset: ISO8859-1
* using option '--no-vignettes'
* checking for file 'GenomicAlignments/DESCRIPTION' ... OK
* this is package 'GenomicAlignments' version '1.31.2'
* package encoding: UTF-8
* checking package namespace information ... OK
* checking package dependencies ... NOTE
Depends: includes the non-default packages:
  'BiocGenerics', 'S4Vectors', 'IRanges', 'GenomeInfoDb',
  'GenomicRanges', 'SummarizedExperiment', 'Biostrings', 'Rsamtools'
Adding so many packages to the search path is excessive and importing
selectively is preferable.
* checking if this is a source package ... OK
* checking if there is a namespace ... OK
* checking for hidden files and directories ... OK
* checking for portable file names ... OK
* checking whether package 'GenomicAlignments' can be installed ... OK
* checking installed package size ... OK
* checking package directory ... OK
* checking 'build' directory ... OK
* checking DESCRIPTION meta-information ... NOTE
Packages listed in more than one of Depends, Imports, Suggests, Enhances:
  'methods' 'BiocGenerics' 'S4Vectors' 'IRanges' 'GenomicRanges' 'Biostrings' 'Rsamtools'
A package should be listed in only one of these fields.
* checking top-level files ... OK
* checking for left-over files ... OK
* checking index information ... OK
* checking package subdirectories ... OK
* checking R files for non-ASCII characters ... OK
* checking R files for syntax errors ... OK
* checking whether the package can be loaded ... OK
* checking whether the package can be loaded with stated dependencies ... OK
* checking whether the package can be unloaded cleanly ... OK
* checking whether the namespace can be loaded with stated dependencies ... OK
* checking whether the namespace can be unloaded cleanly ... OK
* checking dependencies in R code ... NOTE
':::' calls which should be '::':
  'S4Vectors:::makeClassinfoRowForCompactPrinting'
  'S4Vectors:::makePrettyMatrixForCompactPrinting'
  See the note in ?`:::` about the use of this operator.
Unexported objects imported by ':::' calls:
  'Biostrings:::.normarg_padding.letter'
  'Rsamtools:::.BamViews_delegate' 'Rsamtools:::.findMateWithinGroups'
  'Rsamtools:::.load_bamcols_from_scanBam_res'
  See the note in ?`:::` about the use of this operator.
* checking S3 generic/method consistency ... OK
* checking replacement functions ... OK
* checking foreign function calls ... OK
* checking R code for possible problems ... OK
* checking Rd files ... OK
* checking Rd metadata ... OK
* checking Rd cross-references ... OK
* checking for missing documentation entries ... OK
* checking for code/documentation mismatches ... OK
* checking Rd \usage sections ... OK
* checking Rd contents ... OK
* checking for unstated dependencies in examples ... OK
* checking line endings in C/C++/Fortran sources/headers ... OK
* checking compiled code ... NOTE
Note: information on .o files for x64 is not available
File 'D:/biocbuild/bbs-3.15-bioc/R/library/GenomicAlignments/libs/x64/GenomicAlignments.dll':
  Found 'abort', possibly from 'abort' (C), 'runtime' (Fortran)

Compiled code should not call entry points which might terminate R nor
write to stdout/stderr instead of to the console, nor use Fortran I/O
nor system RNGs. The detected symbols are linked into the code but
might come from libraries and not actually be called.

See 'Writing portable packages' in the 'Writing R Extensions' manual.
* checking files in 'vignettes' ... OK
* checking examples ... OK
Examples with CPU (user + system) or elapsed time > 5s
                            user system elapsed
junctions-methods          10.75   2.08   13.16
readGAlignments             9.23   1.22   16.72
summarizeOverlaps-methods   5.94   0.19   51.26
coordinate-mapping-methods  5.63   0.38    6.00
sequenceLayer               4.38   0.68    5.06
* checking for unstated dependencies in 'tests' ... OK
* checking tests ...
  Running 'run_unitTests.R'
 OK
* checking for unstated dependencies in vignettes ... OK
* checking package vignettes in 'inst/doc' ... OK
* checking running R code from vignettes ... SKIPPED
* checking re-building of vignette outputs ... SKIPPED
* checking PDF version of manual ... OK
* DONE

Status: 4 NOTEs
See
  'D:/biocbuild/bbs-3.15-bioc/meat/GenomicAlignments.Rcheck/00check.log'
for details.



Installation output

GenomicAlignments.Rcheck/00install.out

##############################################################################
##############################################################################
###
### Running command:
###
###   D:\biocbuild\bbs-3.15-bioc\R\bin\R.exe CMD INSTALL GenomicAlignments
###
##############################################################################
##############################################################################


* installing to library 'D:/biocbuild/bbs-3.15-bioc/R/library'
* installing *source* package 'GenomicAlignments' ...
** using staged installation
** libs
"C:/rtools40/mingw64/bin/"gcc  -I"D:/biocbuild/bbs-3.15-bioc/R/include" -DNDEBUG  -I'D:/biocbuild/bbs-3.15-bioc/R/library/S4Vectors/include' -I'D:/biocbuild/bbs-3.15-bioc/R/library/IRanges/include'   -I"C:/extsoft/include"     -O2 -Wall  -std=gnu99 -mfpmath=sse -msse2 -mstackrealign -fno-reorder-blocks-and-partition  -c IRanges_stubs.c -o IRanges_stubs.o
"C:/rtools40/mingw64/bin/"gcc  -I"D:/biocbuild/bbs-3.15-bioc/R/include" -DNDEBUG  -I'D:/biocbuild/bbs-3.15-bioc/R/library/S4Vectors/include' -I'D:/biocbuild/bbs-3.15-bioc/R/library/IRanges/include'   -I"C:/extsoft/include"     -O2 -Wall  -std=gnu99 -mfpmath=sse -msse2 -mstackrealign -fno-reorder-blocks-and-partition  -c R_init_GenomicAlignments.c -o R_init_GenomicAlignments.o
"C:/rtools40/mingw64/bin/"gcc  -I"D:/biocbuild/bbs-3.15-bioc/R/include" -DNDEBUG  -I'D:/biocbuild/bbs-3.15-bioc/R/library/S4Vectors/include' -I'D:/biocbuild/bbs-3.15-bioc/R/library/IRanges/include'   -I"C:/extsoft/include"     -O2 -Wall  -std=gnu99 -mfpmath=sse -msse2 -mstackrealign -fno-reorder-blocks-and-partition  -c S4Vectors_stubs.c -o S4Vectors_stubs.o
"C:/rtools40/mingw64/bin/"gcc  -I"D:/biocbuild/bbs-3.15-bioc/R/include" -DNDEBUG  -I'D:/biocbuild/bbs-3.15-bioc/R/library/S4Vectors/include' -I'D:/biocbuild/bbs-3.15-bioc/R/library/IRanges/include'   -I"C:/extsoft/include"     -O2 -Wall  -std=gnu99 -mfpmath=sse -msse2 -mstackrealign -fno-reorder-blocks-and-partition  -c cigar_utils.c -o cigar_utils.o
cigar_utils.c: In function 'cigar_ranges':
cigar_utils.c:676:9: warning: 'f_elt' may be used uninitialized in this function [-Wmaybe-uninitialized]
    f_elt++;
    ~~~~~^~
cigar_utils.c:674:22: warning: 'range_buf1' may be used uninitialized in this function [-Wmaybe-uninitialized]
    *(breakpoint++) = IntPairAE_get_nelt(range_buf1);
                      ^~~~~~~~~~~~~~~~~~~~~~~~~~~~~~
cigar_utils.c:674:16: warning: 'breakpoint' may be used uninitialized in this function [-Wmaybe-uninitialized]
    *(breakpoint++) = IntPairAE_get_nelt(range_buf1);
     ~~~~~~~~~~~^~~
cigar_utils.c:626:8: warning: 'flag_elt' may be used uninitialized in this function [-Wmaybe-uninitialized]
    if (*flag_elt == NA_INTEGER) {
        ^~~~~~~~~
cigar_utils.c: In function 'cigar_width':
cigar_utils.c:708:8: warning: 'flag_elt' may be used uninitialized in this function [-Wmaybe-uninitialized]
    if (*flag_elt == NA_INTEGER) {
        ^~~~~~~~~
"C:/rtools40/mingw64/bin/"gcc  -I"D:/biocbuild/bbs-3.15-bioc/R/include" -DNDEBUG  -I'D:/biocbuild/bbs-3.15-bioc/R/library/S4Vectors/include' -I'D:/biocbuild/bbs-3.15-bioc/R/library/IRanges/include'   -I"C:/extsoft/include"     -O2 -Wall  -std=gnu99 -mfpmath=sse -msse2 -mstackrealign -fno-reorder-blocks-and-partition  -c coordinate_mapping_methods.c -o coordinate_mapping_methods.o
"C:/rtools40/mingw64/bin/"gcc  -I"D:/biocbuild/bbs-3.15-bioc/R/include" -DNDEBUG  -I'D:/biocbuild/bbs-3.15-bioc/R/library/S4Vectors/include' -I'D:/biocbuild/bbs-3.15-bioc/R/library/IRanges/include'   -I"C:/extsoft/include"     -O2 -Wall  -std=gnu99 -mfpmath=sse -msse2 -mstackrealign -fno-reorder-blocks-and-partition  -c encodeOverlaps_methods.c -o encodeOverlaps_methods.o
encodeOverlaps_methods.c: In function 'overlap_encoding':
encodeOverlaps_methods.c:180:33: warning: 'out_nelt0' may be used uninitialized in this function [-Wmaybe-uninitialized]
  CharAE_set_nelt(out, out_nelt0 + j2 * nrow);
                       ~~~~~~~~~~^~~~~~~~~~~
encodeOverlaps_methods.c:99:6: note: 'out_nelt0' was declared here
  int out_nelt0, i, starti, widthi, spacei, j, startj, widthj, spacej,
      ^~~~~~~~~
C:/rtools40/mingw64/bin/gcc -shared -s -static-libgcc -o GenomicAlignments.dll tmp.def IRanges_stubs.o R_init_GenomicAlignments.o S4Vectors_stubs.o cigar_utils.o coordinate_mapping_methods.o encodeOverlaps_methods.o -LC:/extsoft/lib/x64 -LC:/extsoft/lib -LD:/biocbuild/bbs-3.15-bioc/R/bin/x64 -lR
installing to D:/biocbuild/bbs-3.15-bioc/R/library/00LOCK-GenomicAlignments/00new/GenomicAlignments/libs/x64
** R
** inst
** byte-compile and prepare package for lazy loading
** help
*** installing help indices
  converting help for package 'GenomicAlignments'
    finding HTML links ... done
    GAlignmentPairs-class                   html  
    finding level-2 HTML links ... done

    GAlignments-class                       html  
    GAlignmentsList-class                   html  
    GappedReads-class                       html  
    OverlapEncodings-class                  html  
    cigar-utils                             html  
    coordinate-mapping-methods              html  
    coverage-methods                        html  
    encodeOverlaps-methods                  html  
    findCompatibleOverlaps-methods          html  
    findMateAlignment                       html  
    findOverlaps-methods                    html  
    findSpliceOverlaps-methods              html  
    intra-range-methods                     html  
    junctions-methods                       html  
    pileLettersAt                           html  
    readGAlignments                         html  
    sequenceLayer                           html  
    setops-methods                          html  
    stackStringsFromGAlignments             html  
    summarizeOverlaps-methods               html  
** building package indices
** installing vignettes
** testing if installed package can be loaded from temporary location
** testing if installed package can be loaded from final location
** testing if installed package keeps a record of temporary installation path
* DONE (GenomicAlignments)
Making 'packages.html' ...Warning in packageDescription(i, lib.loc = lib, fields = "Title", encoding = "UTF-8") :
  DESCRIPTION file of package 'Metab' is missing or broken
Warning in packageDescription(i, lib.loc = lib, fields = "Title", encoding = "UTF-8") :
  DESCRIPTION file of package 'Risa' is missing or broken
 done

Tests output

GenomicAlignments.Rcheck/tests/run_unitTests.Rout


R Under development (unstable) (2021-11-21 r81221) -- "Unsuffered Consequences"
Copyright (C) 2021 The R Foundation for Statistical Computing
Platform: x86_64-w64-mingw32/x64 (64-bit)

R is free software and comes with ABSOLUTELY NO WARRANTY.
You are welcome to redistribute it under certain conditions.
Type 'license()' or 'licence()' for distribution details.

R is a collaborative project with many contributors.
Type 'contributors()' for more information and
'citation()' on how to cite R or R packages in publications.

Type 'demo()' for some demos, 'help()' for on-line help, or
'help.start()' for an HTML browser interface to help.
Type 'q()' to quit R.

> require("GenomicAlignments") || stop("unable to load GenomicRanges package")
Loading required package: GenomicAlignments
Loading required package: BiocGenerics

Attaching package: 'BiocGenerics'

The following objects are masked from 'package:stats':

    IQR, mad, sd, var, xtabs

The following objects are masked from 'package:base':

    Filter, Find, Map, Position, Reduce, anyDuplicated, append,
    as.data.frame, basename, cbind, colnames, dirname, do.call,
    duplicated, eval, evalq, get, grep, grepl, intersect, is.unsorted,
    lapply, mapply, match, mget, order, paste, pmax, pmax.int, pmin,
    pmin.int, rank, rbind, rownames, sapply, setdiff, sort, table,
    tapply, union, unique, unsplit, which.max, which.min

Loading required package: S4Vectors
Loading required package: stats4

Attaching package: 'S4Vectors'

The following objects are masked from 'package:base':

    I, expand.grid, unname

Loading required package: IRanges

Attaching package: 'IRanges'

The following object is masked from 'package:grDevices':

    windows

Loading required package: GenomeInfoDb
Loading required package: GenomicRanges
Loading required package: SummarizedExperiment
Loading required package: MatrixGenerics
Loading required package: matrixStats

Attaching package: 'MatrixGenerics'

The following objects are masked from 'package:matrixStats':

    colAlls, colAnyNAs, colAnys, colAvgsPerRowSet, colCollapse,
    colCounts, colCummaxs, colCummins, colCumprods, colCumsums,
    colDiffs, colIQRDiffs, colIQRs, colLogSumExps, colMadDiffs,
    colMads, colMaxs, colMeans2, colMedians, colMins, colOrderStats,
    colProds, colQuantiles, colRanges, colRanks, colSdDiffs, colSds,
    colSums2, colTabulates, colVarDiffs, colVars, colWeightedMads,
    colWeightedMeans, colWeightedMedians, colWeightedSds,
    colWeightedVars, rowAlls, rowAnyNAs, rowAnys, rowAvgsPerColSet,
    rowCollapse, rowCounts, rowCummaxs, rowCummins, rowCumprods,
    rowCumsums, rowDiffs, rowIQRDiffs, rowIQRs, rowLogSumExps,
    rowMadDiffs, rowMads, rowMaxs, rowMeans2, rowMedians, rowMins,
    rowOrderStats, rowProds, rowQuantiles, rowRanges, rowRanks,
    rowSdDiffs, rowSds, rowSums2, rowTabulates, rowVarDiffs, rowVars,
    rowWeightedMads, rowWeightedMeans, rowWeightedMedians,
    rowWeightedSds, rowWeightedVars

Loading required package: Biobase
Welcome to Bioconductor

    Vignettes contain introductory material; view with
    'browseVignettes()'. To cite Bioconductor, see
    'citation("Biobase")', and for packages 'citation("pkgname")'.


Attaching package: 'Biobase'

The following object is masked from 'package:MatrixGenerics':

    rowMedians

The following objects are masked from 'package:matrixStats':

    anyMissing, rowMedians

Loading required package: Biostrings
Loading required package: XVector

Attaching package: 'Biostrings'

The following object is masked from 'package:base':

    strsplit

Loading required package: Rsamtools
[1] TRUE
> GenomicAlignments:::.test()


RUNIT TEST PROTOCOL -- Thu Jan 20 19:02:57 2022 
*********************************************** 
Number of test functions: 42 
Number of errors: 0 
Number of failures: 0 

 
1 Test Suite : 
GenomicAlignments RUnit Tests - 42 test functions, 0 errors, 0 failures
Number of test functions: 42 
Number of errors: 0 
Number of failures: 0 
Warning message:
In .make_GAlignmentPairs_from_GAlignments(gal, strandMode = strandMode,  :
    4 alignments with ambiguous pairing were dumped.
    Use 'getDumpedAlignments()' to retrieve them from the dump environment.
> 
> proc.time()
   user  system elapsed 
  18.43    0.68   32.76 

Example timings

GenomicAlignments.Rcheck/GenomicAlignments-Ex.timings

nameusersystemelapsed
GAlignmentPairs-class0.540.100.64
GAlignments-class0.320.010.33
GAlignmentsList-class1.990.162.14
GappedReads-class0.060.000.06
OverlapEncodings-class0.720.080.80
cigar-utils0.120.010.14
coordinate-mapping-methods5.630.386.00
coverage-methods1.690.111.83
encodeOverlaps-methods0.030.000.03
findCompatibleOverlaps-methods1.340.041.39
findMateAlignment0.080.020.10
findOverlaps-methods0.340.080.42
findSpliceOverlaps-methods3.440.534.03
intra-range-methods0.220.000.23
junctions-methods10.75 2.0813.16
pileLettersAt0.390.000.66
readGAlignments 9.23 1.2216.72
sequenceLayer4.380.685.06
setops-methods0.070.000.08
stackStringsFromGAlignments3.000.363.36
summarizeOverlaps-methods 5.94 0.1951.26