![]() | Name | Last modified | Size | Description |
---|---|---|---|---|
![]() | Parent Directory | - | ||
![]() | buildsrc-out.txt | 02-Jul-2022 00:05 | 876 | |
![]() | buildsrc-summary.dcf | 02-Jul-2022 00:05 | 447 | |
![]() | checksrc-out.txt | 02-Jul-2022 00:05 | 4.6K | |
![]() | checksrc-summary.dcf | 02-Jul-2022 00:05 | 464 | |
![]() | install-out.txt | 02-Jul-2022 00:05 | 5.7K | |
![]() | install-summary.dcf | 02-Jul-2022 00:05 | 279 | |