Name | Last modified | Size | Description | |
---|---|---|---|---|
Parent Directory | - | |||
buildsrc-out.txt | 29-Mar-2024 00:40 | 885 | ||
buildsrc-summary.dcf | 29-Mar-2024 00:40 | 457 | ||
checksrc-out.txt | 29-Mar-2024 00:40 | 6.1K | ||
checksrc-summary.dcf | 29-Mar-2024 00:40 | 487 | ||
install-out.txt | 29-Mar-2024 00:40 | 5.6K | ||
install-summary.dcf | 29-Mar-2024 00:40 | 288 | ||