Back to Multiple platform build/check report for BioC 3.15
ABCDEF[G]HIJKLMNOPQRSTUVWXYZ

This page was generated on 2022-01-20 11:07:21 -0500 (Thu, 20 Jan 2022).

HostnameOSArch (*)R versionInstalled pkgs
nebbiolo1Linux (Ubuntu 20.04.4 LTS)x86_64R Under development (unstable) (2022-01-05 r81451) -- "Unsuffered Consequences" 4162
riesling1Windows Server 2019 Standardx64R Under development (unstable) (2021-11-21 r81221) -- "Unsuffered Consequences" 4057
palomino3Windows Server 2022 Datacenterx64R Under development (unstable) (2021-12-21 r81400 ucrt) -- "Unsuffered Consequences" 3999
merida1macOS 10.14.6 Mojavex86_64R Under development (unstable) (2022-01-05 r81451) -- "Unsuffered Consequences" 4116
Click on any hostname to see more info about the system (e.g. compilers)      (*) as reported by 'uname -p', except on Windows and Mac OS X

INSTALL results for GenoGAM on riesling1


To the developers/maintainers of the GenoGAM package:
- Please allow up to 24 hours (and sometimes 48 hours) for your latest push to git@git.bioconductor.org:packages/GenoGAM.git to
reflect on this report. See How and When does the builder pull? When will my changes propagate? here for more information.
- Make sure to use the following settings in order to reproduce any error or warning you see on this page.

raw results

Package 740/2074HostnameOS / ArchINSTALLBUILDCHECKBUILD BIN
GenoGAM 2.13.0  (landing page)
Georg Stricker
Snapshot Date: 2022-01-19 13:55:26 -0500 (Wed, 19 Jan 2022)
git_url: https://git.bioconductor.org/packages/GenoGAM
git_branch: master
git_last_commit: fd1903b
git_last_commit_date: 2021-10-26 12:26:42 -0500 (Tue, 26 Oct 2021)
nebbiolo1Linux (Ubuntu 20.04.4 LTS) / x86_64  OK    ERROR  skipped
riesling1Windows Server 2019 Standard / x64  OK    ERROR  skippedskipped
palomino3Windows Server 2022 Datacenter / x64  OK    ERROR  skippedskipped
merida1macOS 10.14.6 Mojave / x86_64  OK    ERROR  skippedskipped

Summary

Package: GenoGAM
Version: 2.13.0
Command: D:\biocbuild\bbs-3.15-bioc\R\bin\R.exe CMD INSTALL GenoGAM
StartedAt: 2022-01-19 15:54:14 -0500 (Wed, 19 Jan 2022)
EndedAt: 2022-01-19 15:55:15 -0500 (Wed, 19 Jan 2022)
EllapsedTime: 61.4 seconds
RetCode: 0
Status:   OK  

Command output

##############################################################################
##############################################################################
###
### Running command:
###
###   D:\biocbuild\bbs-3.15-bioc\R\bin\R.exe CMD INSTALL GenoGAM
###
##############################################################################
##############################################################################


* installing to library 'D:/biocbuild/bbs-3.15-bioc/R/library'
* installing *source* package 'GenoGAM' ...
** using staged installation
** libs
"C:/rtools40/mingw64/bin/"g++  -std=gnu++11 -I"D:/biocbuild/bbs-3.15-bioc/R/include" -DNDEBUG -I../inst/include -DARMA_64BIT_WORD=1 -I'D:/biocbuild/bbs-3.15-bioc/R/library/Rcpp/include' -I'D:/biocbuild/bbs-3.15-bioc/R/library/RcppArmadillo/include'   -I"C:/extsoft/include"  -fopenmp    -O2 -Wall  -mfpmath=sse -msse2 -mstackrealign -fno-reorder-blocks-and-partition  -c RcppExports.cpp -o RcppExports.o
"C:/rtools40/mingw64/bin/"g++  -std=gnu++11 -I"D:/biocbuild/bbs-3.15-bioc/R/include" -DNDEBUG -I../inst/include -DARMA_64BIT_WORD=1 -I'D:/biocbuild/bbs-3.15-bioc/R/library/Rcpp/include' -I'D:/biocbuild/bbs-3.15-bioc/R/library/RcppArmadillo/include'   -I"C:/extsoft/include"  -fopenmp    -O2 -Wall  -mfpmath=sse -msse2 -mstackrealign -fno-reorder-blocks-and-partition  -c matrixMult.cpp -o matrixMult.o
C:/rtools40/mingw64/bin/g++ -shared -s -static-libgcc -o GenoGAM.dll tmp.def RcppExports.o matrixMult.o -fopenmp -LD:/biocbuild/bbs-3.15-bioc/R/bin/x64 -lRlapack -LD:/biocbuild/bbs-3.15-bioc/R/bin/x64 -lRblas -lgfortran -lm -lquadmath -LC:/extsoft/lib/x64 -LC:/extsoft/lib -LD:/biocbuild/bbs-3.15-bioc/R/bin/x64 -lR
installing to D:/biocbuild/bbs-3.15-bioc/R/library/00LOCK-GenoGAM/00new/GenoGAM/libs/x64
** R
** inst
** byte-compile and prepare package for lazy loading
Warning: replacing previous import 'HDF5Array::h5ls' by 'rhdf5::h5ls' when loading 'GenoGAM'
Warning: replacing previous import 'S4Vectors::na.omit' by 'stats::na.omit' when loading 'GenoGAM'
** help
*** installing help indices
  converting help for package 'GenoGAM'
    finding HTML links ... done
    Coordinates-class                       html  
    GenoGAM-class                           html  
    GenoGAM                                 html  
REDIRECT:topic	 Previous alias or file overwritten by alias: D:/biocbuild/bbs-3.15-bioc/R/library/00LOCK-GenoGAM/00new/GenoGAM/help/GenoGAM.html
    GenoGAMDataSet-class                    html  
    GenoGAMDataSet-metrics                  html  
    GenoGAMDataSet-subsetting               html  
    GenoGAMDataSetList-class                html  
    GenoGAMDataSetList-metrics              html  
    GenoGAMDataSetList-subsetting           html  
    GenoGAMFamily-class                     html  
    GenoGAMList-class                       html  
    GenoGAMList-subsetting                  html  
    GenoGAMSettings-class                   html  
    asCoordinates                           html  
    callPeaks                               html  
    computeRegionSignificance               html  
    computeSignificance                     html  
    computeSizeFactors                      html  
    fitGenoGAM                              html  
REDIRECT:topic	 Previous alias or file overwritten by alias: D:/biocbuild/bbs-3.15-bioc/R/library/00LOCK-GenoGAM/00new/GenoGAM/help/genogam.html
    makeTestGenoGAM                         html  
    makeTestGenoGAMDataSet                  html  
    makeTestGenoGAMDataSetList              html  
    makeTestGenoGAMList                     html  
    plotGenoGAM                             html  
    readData                                html  
    writeToBEDFile                          html  
** building package indices
** installing vignettes
** testing if installed package can be loaded from temporary location
Warning: replacing previous import 'HDF5Array::h5ls' by 'rhdf5::h5ls' when loading 'GenoGAM'
Warning: replacing previous import 'S4Vectors::na.omit' by 'stats::na.omit' when loading 'GenoGAM'
** testing if installed package can be loaded from final location
Warning: replacing previous import 'HDF5Array::h5ls' by 'rhdf5::h5ls' when loading 'GenoGAM'
Warning: replacing previous import 'S4Vectors::na.omit' by 'stats::na.omit' when loading 'GenoGAM'
** testing if installed package keeps a record of temporary installation path
* DONE (GenoGAM)
Making 'packages.html' ... done