Back to Multiple platform build/check report for BioC 3.15
ABCDEF[G]HIJKLMNOPQRSTUVWXYZ

This page was generated on 2022-01-24 11:07:24 -0500 (Mon, 24 Jan 2022).

HostnameOSArch (*)R versionInstalled pkgs
nebbiolo1Linux (Ubuntu 20.04.4 LTS)x86_64R Under development (unstable) (2022-01-05 r81451) -- "Unsuffered Consequences" 4163
riesling1Windows Server 2019 Standardx64R Under development (unstable) (2021-11-21 r81221) -- "Unsuffered Consequences" 4058
palomino3Windows Server 2022 Datacenterx64R Under development (unstable) (2021-12-21 r81400 ucrt) -- "Unsuffered Consequences" 4000
merida1macOS 10.14.6 Mojavex86_64R Under development (unstable) (2022-01-05 r81451) -- "Unsuffered Consequences" 4117
Click on any hostname to see more info about the system (e.g. compilers)      (*) as reported by 'uname -p', except on Windows and Mac OS X

BUILD BIN results for GeneTonic on riesling1


To the developers/maintainers of the GeneTonic package:
- Please allow up to 24 hours (and sometimes 48 hours) for your latest push to git@git.bioconductor.org:packages/GeneTonic.git to
reflect on this report. See How and When does the builder pull? When will my changes propagate? here for more information.
- Make sure to use the following settings in order to reproduce any error or warning you see on this page.

raw results

Package 736/2075HostnameOS / ArchINSTALLBUILDCHECKBUILD BIN
GeneTonic 1.7.2  (landing page)
Federico Marini
Snapshot Date: 2022-01-23 13:55:15 -0500 (Sun, 23 Jan 2022)
git_url: https://git.bioconductor.org/packages/GeneTonic
git_branch: master
git_last_commit: cd1b0b1
git_last_commit_date: 2022-01-19 06:01:20 -0500 (Wed, 19 Jan 2022)
nebbiolo1Linux (Ubuntu 20.04.4 LTS) / x86_64  OK    OK    OK  UNNEEDED, same version is already published
riesling1Windows Server 2019 Standard / x64  OK    OK    OK    OK  
palomino3Windows Server 2022 Datacenter / x64  OK    OK    OK    OK  NO, package depends on 'AnnotationDbi' which is not available
merida1macOS 10.14.6 Mojave / x86_64  OK    OK    OK    OK  UNNEEDED, same version is already published

Summary

Package: GeneTonic
Version: 1.7.2
Command: rm -rf GeneTonic.buildbin-libdir && mkdir GeneTonic.buildbin-libdir && D:\biocbuild\bbs-3.15-bioc\R\bin\R.exe CMD INSTALL --build --library=GeneTonic.buildbin-libdir GeneTonic_1.7.2.tar.gz
StartedAt: 2022-01-23 20:57:21 -0500 (Sun, 23 Jan 2022)
EndedAt: 2022-01-23 20:58:48 -0500 (Sun, 23 Jan 2022)
EllapsedTime: 87.4 seconds
RetCode: 0
Status:   OK  
PackageFile: GeneTonic_1.7.2.zip
PackageFileSize: 5.672 MiB

Command output

##############################################################################
##############################################################################
###
### Running command:
###
###   rm -rf GeneTonic.buildbin-libdir && mkdir GeneTonic.buildbin-libdir && D:\biocbuild\bbs-3.15-bioc\R\bin\R.exe CMD INSTALL --build --library=GeneTonic.buildbin-libdir GeneTonic_1.7.2.tar.gz
###
##############################################################################
##############################################################################


* installing *source* package 'GeneTonic' ...
** using staged installation
** R
** data
** inst
** byte-compile and prepare package for lazy loading
** help
*** installing help indices
  converting help for package 'GeneTonic'
    finding HTML links ... done
    GeneTonic-pkg                           html  
    GeneTonic                               html  
    GeneTonic_list                          html  
    check_colors                            html  
    checkup_GeneTonic                       html  
    checkup_gtl                             html  
    cluster_markov                          html  
    create_jaccard_matrix                   html  
    create_kappa_matrix                     html  
    describe_gtl                            html  
    deseqresult2df                          html  
    distill_enrichment                      html  
    dot-check_pandoc                        html  
    enhance_table                           html  
    enrichment_map                          html  
    enrichr_output_macrophage               html  
    export_for_iSEE                         html  
    finding level-2 HTML links ... done

    export_to_sif                           html  
    fgseaRes                                html  
    gene_plot                               html  
    geneinfo_2_html                         html  
    get_aggrscores                          html  
    get_expression_values                   html  
    ggs_backbone                            html  
    ggs_graph                               html  
    go_2_html                               html  
    gostres_macrophage                      html  
    gs_alluvial                             html  
    gs_dendro                               html  
    gs_fuzzyclustering                      html  
    gs_heatmap                              html  
    gs_horizon                              html  
    gs_mds                                  html  
    gs_radar                                html  
    gs_scores                               html  
    gs_scoresheat                           html  
    gs_simplify                             html  
    gs_summary_heat                         html  
    gs_summary_overview                     html  
    gs_summary_overview_pair                html  
    gs_volcano                              html  
    happy_hour                              html  
    map2color                               html  
    overlap_coefficient                     html  
    overlap_jaccard_index                   html  
    res_macrophage_IFNg_vs_naive            html  
    shake_davidResult                       html  
    shake_enrichResult                      html  
    shake_enrichrResult                     html  
    shake_fgseaResult                       html  
    shake_gprofilerResult                   html  
    shake_gsenrichResult                    html  
    shake_topGOtableResult                  html  
    signature_volcano                       html  
    styleColorBar_divergent                 html  
    summarize_ggs_hubgenes                  html  
    topgoDE_macrophage_IFNg_vs_naive        html  
** building package indices
** installing vignettes
** testing if installed package can be loaded from temporary location
** testing if installed package can be loaded from final location
** testing if installed package keeps a record of temporary installation path
* MD5 sums
packaged installation of 'GeneTonic' as GeneTonic_1.7.2.zip
* DONE (GeneTonic)