Index of /checkResults/devel/bioc-LATEST/GeneTonic/raw-results/merida1

[ICO]NameLast modifiedSizeDescription

[DIR]Parent Directory  -  
[   ]install-summary.dcf05-Mar-2024 01:39 272  
[TXT]install-out.txt05-Mar-2024 01:39 1.0K 
[   ]checksrc-summary.dcf05-Mar-2024 01:39 455  
[TXT]checksrc-out.txt05-Mar-2024 01:39 8.5K 
[   ]buildsrc-summary.dcf05-Mar-2024 01:39 432  
[TXT]buildsrc-out.txt05-Mar-2024 01:39 886  
[   ]buildbin-summary.dcf05-Mar-2024 01:39 539  
[TXT]buildbin-out.txt05-Mar-2024 01:39 1.2K