Index of /checkResults/devel/bioc-LATEST/GeneTonic/raw-results/kunpeng2

[ICO]NameLast modifiedSizeDescription

[DIR]Parent Directory  -  
[TXT]buildsrc-out.txt08-Dec-2023 01:39 885  
[   ]buildsrc-summary.dcf08-Dec-2023 01:39 431  
[TXT]checksrc-out.txt08-Dec-2023 01:39 1.6K 
[   ]checksrc-summary.dcf08-Dec-2023 01:39 455  
[TXT]install-out.txt08-Dec-2023 01:39 1.0K 
[   ]install-summary.dcf08-Dec-2023 01:39 271