Back to Multiple platform build/check report for BioC 3.15
ABCDEF[G]HIJKLMNOPQRSTUVWXYZ

This page was generated on 2022-01-27 11:07:14 -0500 (Thu, 27 Jan 2022).

HostnameOSArch (*)R versionInstalled pkgs
nebbiolo1Linux (Ubuntu 20.04.4 LTS)x86_64R Under development (unstable) (2022-01-05 r81451) -- "Unsuffered Consequences" 4167
riesling1Windows Server 2019 Standardx64R Under development (unstable) (2021-11-21 r81221) -- "Unsuffered Consequences" 4062
palomino3Windows Server 2022 Datacenterx64R Under development (unstable) (2021-12-21 r81400 ucrt) -- "Unsuffered Consequences" 4004
merida1macOS 10.14.6 Mojavex86_64R Under development (unstable) (2022-01-05 r81451) -- "Unsuffered Consequences" 4121
Click on any hostname to see more info about the system (e.g. compilers)      (*) as reported by 'uname -p', except on Windows and Mac OS X

INSTALL results for GeneStructureTools on riesling1


To the developers/maintainers of the GeneStructureTools package:
- Please allow up to 24 hours (and sometimes 48 hours) for your latest push to git@git.bioconductor.org:packages/GeneStructureTools.git to
reflect on this report. See How and When does the builder pull? When will my changes propagate? here for more information.
- Make sure to use the following settings in order to reproduce any error or warning you see on this page.

raw results

Package 734/2077HostnameOS / ArchINSTALLBUILDCHECKBUILD BIN
GeneStructureTools 1.15.0  (landing page)
Beth Signal
Snapshot Date: 2022-01-26 13:55:18 -0500 (Wed, 26 Jan 2022)
git_url: https://git.bioconductor.org/packages/GeneStructureTools
git_branch: master
git_last_commit: f104af6
git_last_commit_date: 2021-10-26 12:42:28 -0500 (Tue, 26 Oct 2021)
nebbiolo1Linux (Ubuntu 20.04.4 LTS) / x86_64  OK    OK    OK  UNNEEDED, same version is already published
riesling1Windows Server 2019 Standard / x64  OK    OK    OK    NA  
palomino3Windows Server 2022 Datacenter / x64  OK    OK    OK    OK  NO, package depends on 'Biostrings' which is not available
merida1macOS 10.14.6 Mojave / x86_64  OK    OK    OK    OK  UNNEEDED, same version is already published

Summary

Package: GeneStructureTools
Version: 1.15.0
Command: D:\biocbuild\bbs-3.15-bioc\R\bin\R.exe CMD INSTALL GeneStructureTools
StartedAt: 2022-01-26 16:09:12 -0500 (Wed, 26 Jan 2022)
EndedAt: 2022-01-26 16:10:19 -0500 (Wed, 26 Jan 2022)
EllapsedTime: 66.6 seconds
RetCode: 0
Status:   OK  

Command output

##############################################################################
##############################################################################
###
### Running command:
###
###   D:\biocbuild\bbs-3.15-bioc\R\bin\R.exe CMD INSTALL GeneStructureTools
###
##############################################################################
##############################################################################


* installing to library 'D:/biocbuild/bbs-3.15-bioc/R/library'
* installing *source* package 'GeneStructureTools' ...
** using staged installation
** R
** inst
** byte-compile and prepare package for lazy loading
** help
*** installing help indices
  converting help for package 'GeneStructureTools'
    finding HTML links ... done
    DEXSeqIdsToGeneIds                      html  
    UTR2UTR53                               html  
    addBroadTypes                           html  
    addIntronInTranscript                   html  
    addSets                                 html  
    alternativeIntronUsage                  html  
    annotateGeneModel                       html  
    attrChangeAltSpliced                    html  
    coordinates-methods                     html  
    cumsumANDpad                            html  
    diffSplicingResults-methods             html  
    exonsToTranscripts                      html  
    filterGtfOverlap                        html  
    filterWhippetEvents                     html  
    findDEXexonType                         html  
    findExonContainingTranscripts           html  
    findIntronContainingTranscripts         html  
    findJunctionPairs                       html  
    formatWhippetEvents                     html  
    getOrfs                                 html  
    getUOrfs                                html  
    junctions-methods                       html  
    leafcutterTranscriptChangeSummary       html  
    makeGeneModel                           html  
    maxLocation                             html  
    orfDiff                                 html  
    orfSimilarity                           html  
    overlapTypes                            html  
    readCounts-methods                      html  
    readWhippetDIFFfiles                    html  
    readWhippetDataSet                      html  
    readWhippetJNCfiles                     html  
    readWhippetPSIfiles                     html  
    removeDuplicateTranscripts              html  
    removeSameExon                          html  
    removeVersion                           html  
    reorderExonNumbers                      html  
    replaceJunction                         html  
    skipExonInTranscript                    html  
    summariseExonTypes                      html  
    transcriptChangeSummary                 html  
    whippetDataSet-class                    html  
    whippetTranscriptChangeSummary          html  
** building package indices
** installing vignettes
** testing if installed package can be loaded from temporary location
** testing if installed package can be loaded from final location
** testing if installed package keeps a record of temporary installation path
* DONE (GeneStructureTools)
Making 'packages.html' ...Warning in packageDescription(i, lib.loc = lib, fields = "Title", encoding = "UTF-8") :
  DESCRIPTION file of package 'pwrEWAS' is missing or broken
Warning in packageDescription(i, lib.loc = lib, fields = "Title", encoding = "UTF-8") :
  DESCRIPTION file of package 'SomaticSignatures' is missing or broken
 done