Name | Last modified | Size | Description | |
---|---|---|---|---|
Parent Directory | - | |||
install-summary.dcf | 27-Jul-2024 00:39 | 290 | ||
checksrc-summary.dcf | 27-Jul-2024 00:39 | 491 | ||
buildsrc-summary.dcf | 27-Jul-2024 00:39 | 497 | ||
buildbin-summary.dcf | 27-Jul-2024 00:39 | 581 | ||
buildsrc-out.txt | 27-Jul-2024 00:39 | 931 | ||
install-out.txt | 27-Jul-2024 00:39 | 1.0K | ||
buildbin-out.txt | 27-Jul-2024 00:39 | 1.2K | ||
checksrc-out.txt | 27-Jul-2024 00:39 | 3.4K | ||