Index of /checkResults/devel/bioc-LATEST/GeneStructureTools/raw-results/merida1

[ICO]NameLast modifiedSizeDescription

[DIR]Parent Directory  -  
[TXT]buildbin-out.txt27-May-2024 00:35 1.2K 
[   ]buildbin-summary.dcf27-May-2024 00:35 597  
[TXT]buildsrc-out.txt27-May-2024 00:35 900  
[   ]buildsrc-summary.dcf27-May-2024 00:35 461  
[TXT]checksrc-out.txt27-May-2024 00:35 3.7K 
[   ]checksrc-summary.dcf27-May-2024 00:35 488  
[TXT]install-out.txt27-May-2024 00:35 1.0K 
[   ]install-summary.dcf27-May-2024 00:35 292