Name | Last modified | Size | Description | |
---|---|---|---|---|
Parent Directory | - | |||
buildbin-out.txt | 29-Mar-2024 00:39 | 4.9K | ||
buildbin-summary.dcf | 29-Mar-2024 00:39 | 596 | ||
buildsrc-out.txt | 29-Mar-2024 00:39 | 890 | ||
buildsrc-summary.dcf | 29-Mar-2024 00:39 | 461 | ||
checksrc-out.txt | 29-Mar-2024 00:39 | 4.1K | ||
checksrc-summary.dcf | 29-Mar-2024 00:39 | 487 | ||
install-out.txt | 29-Mar-2024 00:39 | 2.6K | ||
install-summary.dcf | 29-Mar-2024 00:39 | 291 | ||