Index of /checkResults/devel/bioc-LATEST/GeneMeta/raw-results

[ICO]NameLast modifiedSizeDescription

[DIR]Parent Directory  -  
[   ]info.dcf26-Jan-2022 01:11 293  
[DIR]merida1/26-Jan-2022 01:11 -  
[DIR]nebbiolo1/26-Jan-2022 01:05 -  
[DIR]palomino3/26-Jan-2022 01:09 -  
[DIR]riesling1/26-Jan-2022 01:07 -