Back to Multiple platform build/check report for BioC 3.15
ABCDEF[G]HIJKLMNOPQRSTUVWXYZ

This page was generated on 2022-01-17 11:07:23 -0500 (Mon, 17 Jan 2022).

HostnameOSArch (*)R versionInstalled pkgs
nebbiolo1Linux (Ubuntu 20.04.4 LTS)x86_64R Under development (unstable) (2022-01-05 r81451) -- "Unsuffered Consequences" 4161
riesling1Windows Server 2019 Standardx64R Under development (unstable) (2021-11-21 r81221) -- "Unsuffered Consequences" 4056
palomino3Windows Server 2022 Datacenterx64R Under development (unstable) (2021-12-21 r81400 ucrt) -- "Unsuffered Consequences" 3998
merida1macOS 10.14.6 Mojavex86_64R Under development (unstable) (2022-01-05 r81451) -- "Unsuffered Consequences" 4115
Click on any hostname to see more info about the system (e.g. compilers)      (*) as reported by 'uname -p', except on Windows and Mac OS X

CHECK results for GeneGeneInteR on riesling1


To the developers/maintainers of the GeneGeneInteR package:
- Please allow up to 24 hours (and sometimes 48 hours) for your latest push to git@git.bioconductor.org:packages/GeneGeneInteR.git to
reflect on this report. See How and When does the builder pull? When will my changes propagate? here for more information.
- Make sure to use the following settings in order to reproduce any error or warning you see on this page.

raw results

Package 722/2074HostnameOS / ArchINSTALLBUILDCHECKBUILD BIN
GeneGeneInteR 1.21.0  (landing page)
Mathieu Emily
Snapshot Date: 2022-01-16 13:55:18 -0500 (Sun, 16 Jan 2022)
git_url: https://git.bioconductor.org/packages/GeneGeneInteR
git_branch: master
git_last_commit: 3b01086
git_last_commit_date: 2021-10-26 12:29:11 -0500 (Tue, 26 Oct 2021)
nebbiolo1Linux (Ubuntu 20.04.4 LTS) / x86_64  OK    OK    OK  UNNEEDED, same version is already published
riesling1Windows Server 2019 Standard / x64  OK    OK    OK    OK  
palomino3Windows Server 2022 Datacenter / x64  OK    OK    OK    OK  NO, package depends on 'snpStats' which is not available
merida1macOS 10.14.6 Mojave / x86_64  OK    OK    OK    OK  UNNEEDED, same version is already published

Summary

Package: GeneGeneInteR
Version: 1.21.0
Command: D:\biocbuild\bbs-3.15-bioc\R\bin\R.exe CMD check --no-multiarch --install=check:GeneGeneInteR.install-out.txt --library=D:\biocbuild\bbs-3.15-bioc\R\library --no-vignettes --timings GeneGeneInteR_1.21.0.tar.gz
StartedAt: 2022-01-16 19:02:18 -0500 (Sun, 16 Jan 2022)
EndedAt: 2022-01-16 19:04:50 -0500 (Sun, 16 Jan 2022)
EllapsedTime: 151.7 seconds
RetCode: 0
Status:   OK  
CheckDir: GeneGeneInteR.Rcheck
Warnings: 0

Command output

##############################################################################
##############################################################################
###
### Running command:
###
###   D:\biocbuild\bbs-3.15-bioc\R\bin\R.exe CMD check --no-multiarch --install=check:GeneGeneInteR.install-out.txt --library=D:\biocbuild\bbs-3.15-bioc\R\library --no-vignettes --timings GeneGeneInteR_1.21.0.tar.gz
###
##############################################################################
##############################################################################


* using log directory 'D:/biocbuild/bbs-3.15-bioc/meat/GeneGeneInteR.Rcheck'
* using R Under development (unstable) (2021-11-21 r81221)
* using platform: x86_64-w64-mingw32 (64-bit)
* using session charset: ISO8859-1
* using option '--no-vignettes'
* checking for file 'GeneGeneInteR/DESCRIPTION' ... OK
* checking extension type ... Package
* this is package 'GeneGeneInteR' version '1.21.0'
* checking package namespace information ... OK
* checking package dependencies ... OK
* checking if this is a source package ... OK
* checking if there is a namespace ... OK
* checking for hidden files and directories ... OK
* checking for portable file names ... OK
* checking whether package 'GeneGeneInteR' can be installed ... OK
* checking installed package size ... OK
* checking package directory ... OK
* checking 'build' directory ... OK
* checking DESCRIPTION meta-information ... OK
* checking top-level files ... OK
* checking for left-over files ... OK
* checking index information ... OK
* checking package subdirectories ... OK
* checking R files for non-ASCII characters ... OK
* checking R files for syntax errors ... OK
* checking whether the package can be loaded ... OK
* checking whether the package can be loaded with stated dependencies ... OK
* checking whether the package can be unloaded cleanly ... OK
* checking whether the namespace can be loaded with stated dependencies ... OK
* checking whether the namespace can be unloaded cleanly ... OK
* checking dependencies in R code ... OK
* checking S3 generic/method consistency ... OK
* checking replacement functions ... OK
* checking foreign function calls ... OK
* checking R code for possible problems ... NOTE
get_PLSR: no visible global function definition for 'cor'
get_PLSR_NA: no visible global function definition for 'cor'
get_boot_stats: no visible binding for global variable 'sd'
get_boots: no visible global function definition for 'cor'
get_num_scale: no visible global function definition for 'na.omit'
get_path_scheme: no visible global function definition for 'lm'
get_path_scheme: no visible global function definition for 'cor'
get_paths: no visible global function definition for 'lm'
get_scores: no visible global function definition for 'cor'
get_treated_data: no visible binding for global variable 'sd'
get_unidim: no visible binding for global variable 'sd'
get_unidim: no visible global function definition for 'princomp'
get_unidim: no visible global function definition for 'cor'
get_weights: no visible binding for global variable 'sd'
get_weights: no visible global function definition for 'cor'
get_weights_nonmetric: no visible binding for global variable
  'normalize'
get_weights_nonmetric: no visible global function definition for 'cor'
get_weights_nonmetric: no visible global function definition for 'lm'
get_weights_nonmetric: no visible binding for global variable 'sd'
plspm: no visible global function definition for 'cor'
Undefined global functions or variables:
  cor lm na.omit normalize princomp sd
Consider adding
  importFrom("stats", "cor", "lm", "na.omit", "princomp", "sd")
to your NAMESPACE file.
* checking Rd files ... OK
* checking Rd metadata ... OK
* checking Rd cross-references ... NOTE
Unknown packages 'plspm', 'GGtools' in Rd xrefs
* checking for missing documentation entries ... OK
* checking for code/documentation mismatches ... OK
* checking Rd \usage sections ... OK
* checking Rd contents ... OK
* checking for unstated dependencies in examples ... OK
* checking contents of 'data' directory ... OK
* checking data for non-ASCII characters ... OK
* checking LazyData ... OK
* checking data for ASCII and uncompressed saves ... OK
* checking line endings in C/C++/Fortran sources/headers ... OK
* checking compiled code ... NOTE
Note: information on .o files for x64 is not available
File 'D:/biocbuild/bbs-3.15-bioc/R/library/GeneGeneInteR/libs/x64/GeneGeneInteR.dll':
  Found 'abort', possibly from 'abort' (C), 'runtime' (Fortran)
  Found 'exit', possibly from 'exit' (C), 'stop' (Fortran)
  Found 'printf', possibly from 'printf' (C)

Compiled code should not call entry points which might terminate R nor
write to stdout/stderr instead of to the console, nor use Fortran I/O
nor system RNGs. The detected symbols are linked into the code but
might come from libraries and not actually be called.

See 'Writing portable packages' in the 'Writing R Extensions' manual.
* checking files in 'vignettes' ... OK
* checking examples ... OK
* checking for unstated dependencies in vignettes ... OK
* checking package vignettes in 'inst/doc' ... OK
* checking running R code from vignettes ... SKIPPED
* checking re-building of vignette outputs ... SKIPPED
* checking PDF version of manual ... OK
* DONE

Status: 3 NOTEs
See
  'D:/biocbuild/bbs-3.15-bioc/meat/GeneGeneInteR.Rcheck/00check.log'
for details.



Installation output

GeneGeneInteR.Rcheck/00install.out

##############################################################################
##############################################################################
###
### Running command:
###
###   D:\biocbuild\bbs-3.15-bioc\R\bin\R.exe CMD INSTALL GeneGeneInteR
###
##############################################################################
##############################################################################


* installing to library 'D:/biocbuild/bbs-3.15-bioc/R/library'
* installing *source* package 'GeneGeneInteR' ...
** using staged installation
** libs
"C:/rtools40/mingw64/bin/"g++ -std=gnu++11  -I"D:/biocbuild/bbs-3.15-bioc/R/include" -DNDEBUG     -I"C:/extsoft/include"     -O2 -Wall  -mfpmath=sse -msse2 -mstackrealign -fno-reorder-blocks-and-partition  -c chclust.cpp -o chclust.o
C:/rtools40/mingw64/bin/g++ -std=gnu++11 -shared -s -static-libgcc -o GeneGeneInteR.dll tmp.def chclust.o -LC:/extsoft/lib/x64 -LC:/extsoft/lib -LD:/biocbuild/bbs-3.15-bioc/R/bin/x64 -lR
installing to D:/biocbuild/bbs-3.15-bioc/R/library/00LOCK-GeneGeneInteR/00new/GeneGeneInteR/libs/x64
** R
** data
*** moving datasets to lazyload DB
** inst
** byte-compile and prepare package for lazy loading
** help
*** installing help indices
  converting help for package 'GeneGeneInteR'
    finding HTML links ... done
    CCA.test                                html  
    CLD.test                                html  
    GBIGM.test                              html  
    GGI                                     html  
    KCCA.test                               html  
    PCA.test                                html  
    PLSPM.test                              html  
    data.SNP                                html  
    gates.test                              html  
    gene.pair                               html  
    importFile                              html  
    imputeSnpMatrix                         html  
    minP.test                               html  
    plot.GGInetwork                         html  
    print.GGItest                           html  
    selectSnps                              html  
    snpMatrixScour                          html  
    summary.GGInetwork                      html  
    summary.GGItest                         html  
    tProd.test                              html  
    tTS.test                                html  
** building package indices
** installing vignettes
** testing if installed package can be loaded from temporary location
** testing if installed package can be loaded from final location
** testing if installed package keeps a record of temporary installation path
* DONE (GeneGeneInteR)
Making 'packages.html' ...Warning in packageDescription(i, lib.loc = lib, fields = "Title", encoding = "UTF-8") :
  DESCRIPTION file of package 'RTCGAToolbox' is missing or broken
 done

Tests output


Example timings

GeneGeneInteR.Rcheck/GeneGeneInteR-Ex.timings

nameusersystemelapsed
CCA.test1.090.031.13
CLD.test0.990.021.00
GBIGM.test2.490.012.50
GGI1.030.001.03
KCCA.test000
PCA.test0.030.000.03
PLSPM.test2.090.012.47
gates.test0.330.000.92
importFile0.420.020.72
imputeSnpMatrix0.580.010.86
minP.test0.630.000.62
plot.GGInetwork0.070.040.11
print.GGItest0.020.000.02
selectSnps0.020.000.02
snpMatrixScour0.030.000.03
summary.GGInetwork000
summary.GGItest0.030.000.03
tProd.test0.340.000.34
tTS.test0.380.000.38