Name | Last modified | Size | Description | |
---|---|---|---|---|
Parent Directory | - | |||
buildbin-summary.dcf | 28-Jul-2024 00:41 | 530 | ||
buildbin-out.txt | 28-Jul-2024 00:41 | 1.2K | ||
checksrc-summary.dcf | 28-Jul-2024 00:41 | 444 | ||
checksrc-out.txt | 28-Jul-2024 00:41 | 5.0K | ||
buildsrc-summary.dcf | 28-Jul-2024 00:41 | 428 | ||
buildsrc-out.txt | 28-Jul-2024 00:41 | 1.6K | ||
install-summary.dcf | 28-Jul-2024 00:41 | 269 | ||
install-out.txt | 28-Jul-2024 00:41 | 1.0K | ||