![]() | Name | Last modified | Size | Description |
---|---|---|---|---|
![]() | Parent Directory | - | ||
![]() | buildbin-out.txt | 30-Sep-2023 01:03 | 1.1K | |
![]() | buildbin-summary.dcf | 30-Sep-2023 01:03 | 533 | |
![]() | buildsrc-out.txt | 30-Sep-2023 01:03 | 914 | |
![]() | buildsrc-summary.dcf | 30-Sep-2023 01:03 | 462 | |
![]() | checksrc-out.txt | 30-Sep-2023 01:03 | 6.3K | |
![]() | checksrc-summary.dcf | 30-Sep-2023 01:03 | 464 | |
![]() | install-out.txt | 30-Sep-2023 01:03 | 1.0K | |
![]() | install-summary.dcf | 30-Sep-2023 01:03 | 274 | |