![]() | Name | Last modified | Size | Description |
---|---|---|---|---|
![]() | Parent Directory | - | ||
![]() | buildsrc-out.txt | 03-Oct-2023 00:36 | 881 | |
![]() | buildsrc-summary.dcf | 03-Oct-2023 00:36 | 426 | |
![]() | checksrc-out.txt | 03-Oct-2023 00:36 | 6.4K | |
![]() | checksrc-summary.dcf | 03-Oct-2023 00:36 | 431 | |
![]() | install-out.txt | 03-Oct-2023 00:36 | 969 | |
![]() | install-summary.dcf | 03-Oct-2023 00:36 | 265 | |