Index of /checkResults/devel/bioc-LATEST/GateFinder/raw-results/nebbiolo1

[ICO]NameLast modifiedSizeDescription

[DIR]Parent Directory  -  
[TXT]buildsrc-out.txt23-Feb-2024 02:48 881  
[   ]buildsrc-summary.dcf23-Feb-2024 02:48 426  
[TXT]checksrc-out.txt23-Feb-2024 02:48 6.5K 
[   ]checksrc-summary.dcf23-Feb-2024 02:48 431  
[TXT]install-out.txt23-Feb-2024 02:48 969  
[   ]install-summary.dcf23-Feb-2024 02:48 265