Index of /checkResults/devel/bioc-LATEST/GateFinder/raw-results/merida1

[ICO]NameLast modifiedSizeDescription

[DIR]Parent Directory  -  
[TXT]buildbin-out.txt02-Mar-2024 01:38 1.2K 
[   ]buildbin-summary.dcf02-Mar-2024 01:38 548  
[TXT]buildsrc-out.txt02-Mar-2024 01:38 891  
[   ]buildsrc-summary.dcf02-Mar-2024 01:38 436  
[TXT]checksrc-out.txt02-Mar-2024 01:38 6.6K 
[   ]checksrc-summary.dcf02-Mar-2024 01:38 462  
[TXT]install-out.txt02-Mar-2024 01:38 1.0K 
[   ]install-summary.dcf02-Mar-2024 01:38 275